BEGIN:VCALENDAR
VERSION:2.0
PRODID:-//Lyngblomsten - ECPv6.15.14//NONSGML v1.0//EN
CALSCALE:GREGORIAN
METHOD:PUBLISH
X-ORIGINAL-URL:https://lyngblomsten.org
X-WR-CALDESC:Events for Lyngblomsten
REFRESH-INTERVAL;VALUE=DURATION:PT1H
X-Robots-Tag:noindex
X-PUBLISHED-TTL:PT1H
BEGIN:VTIMEZONE
TZID:America/Chicago
BEGIN:DAYLIGHT
TZOFFSETFROM:-0600
TZOFFSETTO:-0500
TZNAME:CDT
DTSTART:20280312T080000
END:DAYLIGHT
BEGIN:STANDARD
TZOFFSETFROM:-0500
TZOFFSETTO:-0600
TZNAME:CST
DTSTART:20281105T070000
END:STANDARD
BEGIN:DAYLIGHT
TZOFFSETFROM:-0600
TZOFFSETTO:-0500
TZNAME:CDT
DTSTART:20290311T080000
END:DAYLIGHT
BEGIN:STANDARD
TZOFFSETFROM:-0500
TZOFFSETTO:-0600
TZNAME:CST
DTSTART:20291104T070000
END:STANDARD
BEGIN:DAYLIGHT
TZOFFSETFROM:-0600
TZOFFSETTO:-0500
TZNAME:CDT
DTSTART:20300310T080000
END:DAYLIGHT
BEGIN:STANDARD
TZOFFSETFROM:-0500
TZOFFSETTO:-0600
TZNAME:CST
DTSTART:20301103T070000
END:STANDARD
BEGIN:DAYLIGHT
TZOFFSETFROM:-0600
TZOFFSETTO:-0500
TZNAME:CDT
DTSTART:20310309T080000
END:DAYLIGHT
BEGIN:STANDARD
TZOFFSETFROM:-0500
TZOFFSETTO:-0600
TZNAME:CST
DTSTART:20311102T070000
END:STANDARD
END:VTIMEZONE
BEGIN:VEVENT
DTSTART;TZID=America/Chicago:20290722T103000
DTEND;TZID=America/Chicago:20290722T113000
DTSTAMP:20260421T174238
CREATED:20250728T184909Z
LAST-MODIFIED:20250730T211932Z
UID:10000737-1879410600-1879414200@lyngblomsten.org
SUMMARY:Sunday Worship Service
DESCRIPTION:Join us for our weekly ecumenical Sunday worship service in the Newman-Benson Chapel!
URL:https://lyngblomsten.org/event/sunday-worship-service/2029-07-22/
LOCATION:Newman-Benson Chapel (Lyngblomsten Care Center)\, 1415 Almond Avenue\, St. Paul\, MN\, 55108\, United States
CATEGORIES:Como Park,Corporate
ORGANIZER;CN="Rev. Ruth":MAILTO:rsorenson@lyngblomsten.org
END:VEVENT
BEGIN:VEVENT
DTSTART;TZID=America/Chicago:20290729T103000
DTEND;TZID=America/Chicago:20290729T113000
DTSTAMP:20260421T174238
CREATED:20250728T184909Z
LAST-MODIFIED:20250730T211932Z
UID:10000738-1880015400-1880019000@lyngblomsten.org
SUMMARY:Sunday Worship Service
DESCRIPTION:Join us for our weekly ecumenical Sunday worship service in the Newman-Benson Chapel!
URL:https://lyngblomsten.org/event/sunday-worship-service/2029-07-29/
LOCATION:Newman-Benson Chapel (Lyngblomsten Care Center)\, 1415 Almond Avenue\, St. Paul\, MN\, 55108\, United States
CATEGORIES:Como Park,Corporate
ORGANIZER;CN="Rev. Ruth":MAILTO:rsorenson@lyngblomsten.org
END:VEVENT
BEGIN:VEVENT
DTSTART;TZID=America/Chicago:20290802T130000
DTEND;TZID=America/Chicago:20290802T143000
DTSTAMP:20260421T174238
CREATED:20251009T185001Z
LAST-MODIFIED:20251009T185001Z
UID:10000960-1880370000-1880375400@lyngblomsten.org
SUMMARY:Parkinson's Support Group
DESCRIPTION:This Parkinson’s Disease Support Group is an informal\, self-managed organization of persons with Parkinson’s and their caregivers whose purpose is to share information and offer mutual support in a spirit of self-acceptance. It’s a place where other family members and friends can feel welcome and supported. Any stage of Parkinson’s Disease is welcome. \nThis is an open group that meets the first Thursday of the month; come as often as you are able. No RSVP required. The group meets in the second-floor lounge of The Heritage at Lyngblomsten (1440 Midway Parkway\, Saint Paul). \nFor more information\, contact Jay Haukom at 651.632.5391 or jhaukom@lyngblomsten.org.
URL:https://lyngblomsten.org/event/parkinsons-support-group/2029-08-02/
LOCATION:The Heritage at Lyngblomsten\, 1440 Midway Parkway\, Saint Paul\, MN\, 55108\, United States
CATEGORIES:Como Park
END:VEVENT
BEGIN:VEVENT
DTSTART;TZID=America/Chicago:20290805T103000
DTEND;TZID=America/Chicago:20290805T113000
DTSTAMP:20260421T174238
CREATED:20250728T184909Z
LAST-MODIFIED:20250730T211932Z
UID:10000739-1880620200-1880623800@lyngblomsten.org
SUMMARY:Sunday Worship Service
DESCRIPTION:Join us for our weekly ecumenical Sunday worship service in the Newman-Benson Chapel!
URL:https://lyngblomsten.org/event/sunday-worship-service/2029-08-05/
LOCATION:Newman-Benson Chapel (Lyngblomsten Care Center)\, 1415 Almond Avenue\, St. Paul\, MN\, 55108\, United States
CATEGORIES:Como Park,Corporate
ORGANIZER;CN="Rev. Ruth":MAILTO:rsorenson@lyngblomsten.org
END:VEVENT
BEGIN:VEVENT
DTSTART;TZID=America/Chicago:20290812T103000
DTEND;TZID=America/Chicago:20290812T113000
DTSTAMP:20260421T174238
CREATED:20250728T184909Z
LAST-MODIFIED:20250730T211932Z
UID:10000740-1881225000-1881228600@lyngblomsten.org
SUMMARY:Sunday Worship Service
DESCRIPTION:Join us for our weekly ecumenical Sunday worship service in the Newman-Benson Chapel!
URL:https://lyngblomsten.org/event/sunday-worship-service/2029-08-12/
LOCATION:Newman-Benson Chapel (Lyngblomsten Care Center)\, 1415 Almond Avenue\, St. Paul\, MN\, 55108\, United States
CATEGORIES:Como Park,Corporate
ORGANIZER;CN="Rev. Ruth":MAILTO:rsorenson@lyngblomsten.org
END:VEVENT
BEGIN:VEVENT
DTSTART;TZID=America/Chicago:20290819T103000
DTEND;TZID=America/Chicago:20290819T113000
DTSTAMP:20260421T174238
CREATED:20250728T184909Z
LAST-MODIFIED:20250730T211932Z
UID:10000741-1881829800-1881833400@lyngblomsten.org
SUMMARY:Sunday Worship Service
DESCRIPTION:Join us for our weekly ecumenical Sunday worship service in the Newman-Benson Chapel!
URL:https://lyngblomsten.org/event/sunday-worship-service/2029-08-19/
LOCATION:Newman-Benson Chapel (Lyngblomsten Care Center)\, 1415 Almond Avenue\, St. Paul\, MN\, 55108\, United States
CATEGORIES:Como Park,Corporate
ORGANIZER;CN="Rev. Ruth":MAILTO:rsorenson@lyngblomsten.org
END:VEVENT
BEGIN:VEVENT
DTSTART;TZID=America/Chicago:20290826T103000
DTEND;TZID=America/Chicago:20290826T113000
DTSTAMP:20260421T174238
CREATED:20250728T184909Z
LAST-MODIFIED:20250730T211932Z
UID:10000742-1882434600-1882438200@lyngblomsten.org
SUMMARY:Sunday Worship Service
DESCRIPTION:Join us for our weekly ecumenical Sunday worship service in the Newman-Benson Chapel!
URL:https://lyngblomsten.org/event/sunday-worship-service/2029-08-26/
LOCATION:Newman-Benson Chapel (Lyngblomsten Care Center)\, 1415 Almond Avenue\, St. Paul\, MN\, 55108\, United States
CATEGORIES:Como Park,Corporate
ORGANIZER;CN="Rev. Ruth":MAILTO:rsorenson@lyngblomsten.org
END:VEVENT
BEGIN:VEVENT
DTSTART;TZID=America/Chicago:20290902T103000
DTEND;TZID=America/Chicago:20290902T113000
DTSTAMP:20260421T174238
CREATED:20250728T184909Z
LAST-MODIFIED:20250730T211932Z
UID:10000743-1883039400-1883043000@lyngblomsten.org
SUMMARY:Sunday Worship Service
DESCRIPTION:Join us for our weekly ecumenical Sunday worship service in the Newman-Benson Chapel!
URL:https://lyngblomsten.org/event/sunday-worship-service/2029-09-02/
LOCATION:Newman-Benson Chapel (Lyngblomsten Care Center)\, 1415 Almond Avenue\, St. Paul\, MN\, 55108\, United States
CATEGORIES:Como Park,Corporate
ORGANIZER;CN="Rev. Ruth":MAILTO:rsorenson@lyngblomsten.org
END:VEVENT
BEGIN:VEVENT
DTSTART;TZID=America/Chicago:20290906T130000
DTEND;TZID=America/Chicago:20290906T143000
DTSTAMP:20260421T174238
CREATED:20251009T185001Z
LAST-MODIFIED:20251009T185001Z
UID:10000961-1883394000-1883399400@lyngblomsten.org
SUMMARY:Parkinson's Support Group
DESCRIPTION:This Parkinson’s Disease Support Group is an informal\, self-managed organization of persons with Parkinson’s and their caregivers whose purpose is to share information and offer mutual support in a spirit of self-acceptance. It’s a place where other family members and friends can feel welcome and supported. Any stage of Parkinson’s Disease is welcome. \nThis is an open group that meets the first Thursday of the month; come as often as you are able. No RSVP required. The group meets in the second-floor lounge of The Heritage at Lyngblomsten (1440 Midway Parkway\, Saint Paul). \nFor more information\, contact Jay Haukom at 651.632.5391 or jhaukom@lyngblomsten.org.
URL:https://lyngblomsten.org/event/parkinsons-support-group/2029-09-06/
LOCATION:The Heritage at Lyngblomsten\, 1440 Midway Parkway\, Saint Paul\, MN\, 55108\, United States
CATEGORIES:Como Park
END:VEVENT
BEGIN:VEVENT
DTSTART;TZID=America/Chicago:20290909T103000
DTEND;TZID=America/Chicago:20290909T113000
DTSTAMP:20260421T174238
CREATED:20250728T184909Z
LAST-MODIFIED:20250730T211932Z
UID:10000744-1883644200-1883647800@lyngblomsten.org
SUMMARY:Sunday Worship Service
DESCRIPTION:Join us for our weekly ecumenical Sunday worship service in the Newman-Benson Chapel!
URL:https://lyngblomsten.org/event/sunday-worship-service/2029-09-09/
LOCATION:Newman-Benson Chapel (Lyngblomsten Care Center)\, 1415 Almond Avenue\, St. Paul\, MN\, 55108\, United States
CATEGORIES:Como Park,Corporate
ORGANIZER;CN="Rev. Ruth":MAILTO:rsorenson@lyngblomsten.org
END:VEVENT
BEGIN:VEVENT
DTSTART;TZID=America/Chicago:20290916T103000
DTEND;TZID=America/Chicago:20290916T113000
DTSTAMP:20260421T174238
CREATED:20250728T184909Z
LAST-MODIFIED:20250730T211932Z
UID:10000745-1884249000-1884252600@lyngblomsten.org
SUMMARY:Sunday Worship Service
DESCRIPTION:Join us for our weekly ecumenical Sunday worship service in the Newman-Benson Chapel!
URL:https://lyngblomsten.org/event/sunday-worship-service/2029-09-16/
LOCATION:Newman-Benson Chapel (Lyngblomsten Care Center)\, 1415 Almond Avenue\, St. Paul\, MN\, 55108\, United States
CATEGORIES:Como Park,Corporate
ORGANIZER;CN="Rev. Ruth":MAILTO:rsorenson@lyngblomsten.org
END:VEVENT
BEGIN:VEVENT
DTSTART;TZID=America/Chicago:20290923T103000
DTEND;TZID=America/Chicago:20290923T113000
DTSTAMP:20260421T174238
CREATED:20250728T184909Z
LAST-MODIFIED:20250730T211932Z
UID:10000746-1884853800-1884857400@lyngblomsten.org
SUMMARY:Sunday Worship Service
DESCRIPTION:Join us for our weekly ecumenical Sunday worship service in the Newman-Benson Chapel!
URL:https://lyngblomsten.org/event/sunday-worship-service/2029-09-23/
LOCATION:Newman-Benson Chapel (Lyngblomsten Care Center)\, 1415 Almond Avenue\, St. Paul\, MN\, 55108\, United States
CATEGORIES:Como Park,Corporate
ORGANIZER;CN="Rev. Ruth":MAILTO:rsorenson@lyngblomsten.org
END:VEVENT
BEGIN:VEVENT
DTSTART;TZID=America/Chicago:20290930T103000
DTEND;TZID=America/Chicago:20290930T113000
DTSTAMP:20260421T174238
CREATED:20250728T184909Z
LAST-MODIFIED:20250730T211932Z
UID:10000747-1885458600-1885462200@lyngblomsten.org
SUMMARY:Sunday Worship Service
DESCRIPTION:Join us for our weekly ecumenical Sunday worship service in the Newman-Benson Chapel!
URL:https://lyngblomsten.org/event/sunday-worship-service/2029-09-30/
LOCATION:Newman-Benson Chapel (Lyngblomsten Care Center)\, 1415 Almond Avenue\, St. Paul\, MN\, 55108\, United States
CATEGORIES:Como Park,Corporate
ORGANIZER;CN="Rev. Ruth":MAILTO:rsorenson@lyngblomsten.org
END:VEVENT
BEGIN:VEVENT
DTSTART;TZID=America/Chicago:20291004T130000
DTEND;TZID=America/Chicago:20291004T143000
DTSTAMP:20260421T174238
CREATED:20251009T185001Z
LAST-MODIFIED:20251009T185001Z
UID:10000962-1885813200-1885818600@lyngblomsten.org
SUMMARY:Parkinson's Support Group
DESCRIPTION:This Parkinson’s Disease Support Group is an informal\, self-managed organization of persons with Parkinson’s and their caregivers whose purpose is to share information and offer mutual support in a spirit of self-acceptance. It’s a place where other family members and friends can feel welcome and supported. Any stage of Parkinson’s Disease is welcome. \nThis is an open group that meets the first Thursday of the month; come as often as you are able. No RSVP required. The group meets in the second-floor lounge of The Heritage at Lyngblomsten (1440 Midway Parkway\, Saint Paul). \nFor more information\, contact Jay Haukom at 651.632.5391 or jhaukom@lyngblomsten.org.
URL:https://lyngblomsten.org/event/parkinsons-support-group/2029-10-04/
LOCATION:The Heritage at Lyngblomsten\, 1440 Midway Parkway\, Saint Paul\, MN\, 55108\, United States
CATEGORIES:Como Park
END:VEVENT
BEGIN:VEVENT
DTSTART;TZID=America/Chicago:20291007T103000
DTEND;TZID=America/Chicago:20291007T113000
DTSTAMP:20260421T174238
CREATED:20250728T184909Z
LAST-MODIFIED:20250730T211932Z
UID:10000748-1886063400-1886067000@lyngblomsten.org
SUMMARY:Sunday Worship Service
DESCRIPTION:Join us for our weekly ecumenical Sunday worship service in the Newman-Benson Chapel!
URL:https://lyngblomsten.org/event/sunday-worship-service/2029-10-07/
LOCATION:Newman-Benson Chapel (Lyngblomsten Care Center)\, 1415 Almond Avenue\, St. Paul\, MN\, 55108\, United States
CATEGORIES:Como Park,Corporate
ORGANIZER;CN="Rev. Ruth":MAILTO:rsorenson@lyngblomsten.org
END:VEVENT
BEGIN:VEVENT
DTSTART;TZID=America/Chicago:20291014T103000
DTEND;TZID=America/Chicago:20291014T113000
DTSTAMP:20260421T174238
CREATED:20250728T184909Z
LAST-MODIFIED:20250730T211932Z
UID:10000749-1886668200-1886671800@lyngblomsten.org
SUMMARY:Sunday Worship Service
DESCRIPTION:Join us for our weekly ecumenical Sunday worship service in the Newman-Benson Chapel!
URL:https://lyngblomsten.org/event/sunday-worship-service/2029-10-14/
LOCATION:Newman-Benson Chapel (Lyngblomsten Care Center)\, 1415 Almond Avenue\, St. Paul\, MN\, 55108\, United States
CATEGORIES:Como Park,Corporate
ORGANIZER;CN="Rev. Ruth":MAILTO:rsorenson@lyngblomsten.org
END:VEVENT
BEGIN:VEVENT
DTSTART;TZID=America/Chicago:20291021T103000
DTEND;TZID=America/Chicago:20291021T113000
DTSTAMP:20260421T174238
CREATED:20250728T184909Z
LAST-MODIFIED:20250730T211932Z
UID:10000750-1887273000-1887276600@lyngblomsten.org
SUMMARY:Sunday Worship Service
DESCRIPTION:Join us for our weekly ecumenical Sunday worship service in the Newman-Benson Chapel!
URL:https://lyngblomsten.org/event/sunday-worship-service/2029-10-21/
LOCATION:Newman-Benson Chapel (Lyngblomsten Care Center)\, 1415 Almond Avenue\, St. Paul\, MN\, 55108\, United States
CATEGORIES:Como Park,Corporate
ORGANIZER;CN="Rev. Ruth":MAILTO:rsorenson@lyngblomsten.org
END:VEVENT
BEGIN:VEVENT
DTSTART;TZID=America/Chicago:20291028T103000
DTEND;TZID=America/Chicago:20291028T113000
DTSTAMP:20260421T174238
CREATED:20250728T184909Z
LAST-MODIFIED:20250730T211932Z
UID:10000751-1887877800-1887881400@lyngblomsten.org
SUMMARY:Sunday Worship Service
DESCRIPTION:Join us for our weekly ecumenical Sunday worship service in the Newman-Benson Chapel!
URL:https://lyngblomsten.org/event/sunday-worship-service/2029-10-28/
LOCATION:Newman-Benson Chapel (Lyngblomsten Care Center)\, 1415 Almond Avenue\, St. Paul\, MN\, 55108\, United States
CATEGORIES:Como Park,Corporate
ORGANIZER;CN="Rev. Ruth":MAILTO:rsorenson@lyngblomsten.org
END:VEVENT
BEGIN:VEVENT
DTSTART;TZID=America/Chicago:20291101T130000
DTEND;TZID=America/Chicago:20291101T143000
DTSTAMP:20260421T174238
CREATED:20251009T185001Z
LAST-MODIFIED:20251009T185001Z
UID:10000963-1888232400-1888237800@lyngblomsten.org
SUMMARY:Parkinson's Support Group
DESCRIPTION:This Parkinson’s Disease Support Group is an informal\, self-managed organization of persons with Parkinson’s and their caregivers whose purpose is to share information and offer mutual support in a spirit of self-acceptance. It’s a place where other family members and friends can feel welcome and supported. Any stage of Parkinson’s Disease is welcome. \nThis is an open group that meets the first Thursday of the month; come as often as you are able. No RSVP required. The group meets in the second-floor lounge of The Heritage at Lyngblomsten (1440 Midway Parkway\, Saint Paul). \nFor more information\, contact Jay Haukom at 651.632.5391 or jhaukom@lyngblomsten.org.
URL:https://lyngblomsten.org/event/parkinsons-support-group/2029-11-01/
LOCATION:The Heritage at Lyngblomsten\, 1440 Midway Parkway\, Saint Paul\, MN\, 55108\, United States
CATEGORIES:Como Park
END:VEVENT
BEGIN:VEVENT
DTSTART;TZID=America/Chicago:20291104T103000
DTEND;TZID=America/Chicago:20291104T113000
DTSTAMP:20260421T174238
CREATED:20250728T184909Z
LAST-MODIFIED:20250730T211932Z
UID:10000752-1888482600-1888486200@lyngblomsten.org
SUMMARY:Sunday Worship Service
DESCRIPTION:Join us for our weekly ecumenical Sunday worship service in the Newman-Benson Chapel!
URL:https://lyngblomsten.org/event/sunday-worship-service/2029-11-04/
LOCATION:Newman-Benson Chapel (Lyngblomsten Care Center)\, 1415 Almond Avenue\, St. Paul\, MN\, 55108\, United States
CATEGORIES:Como Park,Corporate
ORGANIZER;CN="Rev. Ruth":MAILTO:rsorenson@lyngblomsten.org
END:VEVENT
BEGIN:VEVENT
DTSTART;TZID=America/Chicago:20291111T103000
DTEND;TZID=America/Chicago:20291111T113000
DTSTAMP:20260421T174238
CREATED:20250728T184909Z
LAST-MODIFIED:20250730T211932Z
UID:10000753-1889087400-1889091000@lyngblomsten.org
SUMMARY:Sunday Worship Service
DESCRIPTION:Join us for our weekly ecumenical Sunday worship service in the Newman-Benson Chapel!
URL:https://lyngblomsten.org/event/sunday-worship-service/2029-11-11/
LOCATION:Newman-Benson Chapel (Lyngblomsten Care Center)\, 1415 Almond Avenue\, St. Paul\, MN\, 55108\, United States
CATEGORIES:Como Park,Corporate
ORGANIZER;CN="Rev. Ruth":MAILTO:rsorenson@lyngblomsten.org
END:VEVENT
BEGIN:VEVENT
DTSTART;TZID=America/Chicago:20291118T103000
DTEND;TZID=America/Chicago:20291118T113000
DTSTAMP:20260421T174238
CREATED:20250728T184909Z
LAST-MODIFIED:20250730T211932Z
UID:10000754-1889692200-1889695800@lyngblomsten.org
SUMMARY:Sunday Worship Service
DESCRIPTION:Join us for our weekly ecumenical Sunday worship service in the Newman-Benson Chapel!
URL:https://lyngblomsten.org/event/sunday-worship-service/2029-11-18/
LOCATION:Newman-Benson Chapel (Lyngblomsten Care Center)\, 1415 Almond Avenue\, St. Paul\, MN\, 55108\, United States
CATEGORIES:Como Park,Corporate
ORGANIZER;CN="Rev. Ruth":MAILTO:rsorenson@lyngblomsten.org
END:VEVENT
BEGIN:VEVENT
DTSTART;TZID=America/Chicago:20291125T103000
DTEND;TZID=America/Chicago:20291125T113000
DTSTAMP:20260421T174238
CREATED:20250728T184909Z
LAST-MODIFIED:20250730T211932Z
UID:10000755-1890297000-1890300600@lyngblomsten.org
SUMMARY:Sunday Worship Service
DESCRIPTION:Join us for our weekly ecumenical Sunday worship service in the Newman-Benson Chapel!
URL:https://lyngblomsten.org/event/sunday-worship-service/2029-11-25/
LOCATION:Newman-Benson Chapel (Lyngblomsten Care Center)\, 1415 Almond Avenue\, St. Paul\, MN\, 55108\, United States
CATEGORIES:Como Park,Corporate
ORGANIZER;CN="Rev. Ruth":MAILTO:rsorenson@lyngblomsten.org
END:VEVENT
BEGIN:VEVENT
DTSTART;TZID=America/Chicago:20291202T103000
DTEND;TZID=America/Chicago:20291202T113000
DTSTAMP:20260421T174238
CREATED:20250728T184909Z
LAST-MODIFIED:20250730T211932Z
UID:10000756-1890901800-1890905400@lyngblomsten.org
SUMMARY:Sunday Worship Service
DESCRIPTION:Join us for our weekly ecumenical Sunday worship service in the Newman-Benson Chapel!
URL:https://lyngblomsten.org/event/sunday-worship-service/2029-12-02/
LOCATION:Newman-Benson Chapel (Lyngblomsten Care Center)\, 1415 Almond Avenue\, St. Paul\, MN\, 55108\, United States
CATEGORIES:Como Park,Corporate
ORGANIZER;CN="Rev. Ruth":MAILTO:rsorenson@lyngblomsten.org
END:VEVENT
BEGIN:VEVENT
DTSTART;TZID=America/Chicago:20291206T130000
DTEND;TZID=America/Chicago:20291206T143000
DTSTAMP:20260421T174238
CREATED:20251009T185001Z
LAST-MODIFIED:20251009T185001Z
UID:10000964-1891256400-1891261800@lyngblomsten.org
SUMMARY:Parkinson's Support Group
DESCRIPTION:This Parkinson’s Disease Support Group is an informal\, self-managed organization of persons with Parkinson’s and their caregivers whose purpose is to share information and offer mutual support in a spirit of self-acceptance. It’s a place where other family members and friends can feel welcome and supported. Any stage of Parkinson’s Disease is welcome. \nThis is an open group that meets the first Thursday of the month; come as often as you are able. No RSVP required. The group meets in the second-floor lounge of The Heritage at Lyngblomsten (1440 Midway Parkway\, Saint Paul). \nFor more information\, contact Jay Haukom at 651.632.5391 or jhaukom@lyngblomsten.org.
URL:https://lyngblomsten.org/event/parkinsons-support-group/2029-12-06/
LOCATION:The Heritage at Lyngblomsten\, 1440 Midway Parkway\, Saint Paul\, MN\, 55108\, United States
CATEGORIES:Como Park
END:VEVENT
BEGIN:VEVENT
DTSTART;TZID=America/Chicago:20291209T103000
DTEND;TZID=America/Chicago:20291209T113000
DTSTAMP:20260421T174238
CREATED:20250728T184909Z
LAST-MODIFIED:20250730T211932Z
UID:10000757-1891506600-1891510200@lyngblomsten.org
SUMMARY:Sunday Worship Service
DESCRIPTION:Join us for our weekly ecumenical Sunday worship service in the Newman-Benson Chapel!
URL:https://lyngblomsten.org/event/sunday-worship-service/2029-12-09/
LOCATION:Newman-Benson Chapel (Lyngblomsten Care Center)\, 1415 Almond Avenue\, St. Paul\, MN\, 55108\, United States
CATEGORIES:Como Park,Corporate
ORGANIZER;CN="Rev. Ruth":MAILTO:rsorenson@lyngblomsten.org
END:VEVENT
BEGIN:VEVENT
DTSTART;TZID=America/Chicago:20291216T103000
DTEND;TZID=America/Chicago:20291216T113000
DTSTAMP:20260421T174238
CREATED:20250728T184909Z
LAST-MODIFIED:20250730T211932Z
UID:10000758-1892111400-1892115000@lyngblomsten.org
SUMMARY:Sunday Worship Service
DESCRIPTION:Join us for our weekly ecumenical Sunday worship service in the Newman-Benson Chapel!
URL:https://lyngblomsten.org/event/sunday-worship-service/2029-12-16/
LOCATION:Newman-Benson Chapel (Lyngblomsten Care Center)\, 1415 Almond Avenue\, St. Paul\, MN\, 55108\, United States
CATEGORIES:Como Park,Corporate
ORGANIZER;CN="Rev. Ruth":MAILTO:rsorenson@lyngblomsten.org
END:VEVENT
BEGIN:VEVENT
DTSTART;TZID=America/Chicago:20291223T103000
DTEND;TZID=America/Chicago:20291223T113000
DTSTAMP:20260421T174238
CREATED:20250728T184909Z
LAST-MODIFIED:20250730T211932Z
UID:10000759-1892716200-1892719800@lyngblomsten.org
SUMMARY:Sunday Worship Service
DESCRIPTION:Join us for our weekly ecumenical Sunday worship service in the Newman-Benson Chapel!
URL:https://lyngblomsten.org/event/sunday-worship-service/2029-12-23/
LOCATION:Newman-Benson Chapel (Lyngblomsten Care Center)\, 1415 Almond Avenue\, St. Paul\, MN\, 55108\, United States
CATEGORIES:Como Park,Corporate
ORGANIZER;CN="Rev. Ruth":MAILTO:rsorenson@lyngblomsten.org
END:VEVENT
BEGIN:VEVENT
DTSTART;TZID=America/Chicago:20291230T103000
DTEND;TZID=America/Chicago:20291230T113000
DTSTAMP:20260421T174238
CREATED:20250728T184909Z
LAST-MODIFIED:20250730T211932Z
UID:10000760-1893321000-1893324600@lyngblomsten.org
SUMMARY:Sunday Worship Service
DESCRIPTION:Join us for our weekly ecumenical Sunday worship service in the Newman-Benson Chapel!
URL:https://lyngblomsten.org/event/sunday-worship-service/2029-12-30/
LOCATION:Newman-Benson Chapel (Lyngblomsten Care Center)\, 1415 Almond Avenue\, St. Paul\, MN\, 55108\, United States
CATEGORIES:Como Park,Corporate
ORGANIZER;CN="Rev. Ruth":MAILTO:rsorenson@lyngblomsten.org
END:VEVENT
BEGIN:VEVENT
DTSTART;TZID=America/Chicago:20300103T130000
DTEND;TZID=America/Chicago:20300103T143000
DTSTAMP:20260421T174238
CREATED:20251009T185001Z
LAST-MODIFIED:20251009T185001Z
UID:10000965-1893675600-1893681000@lyngblomsten.org
SUMMARY:Parkinson's Support Group
DESCRIPTION:This Parkinson’s Disease Support Group is an informal\, self-managed organization of persons with Parkinson’s and their caregivers whose purpose is to share information and offer mutual support in a spirit of self-acceptance. It’s a place where other family members and friends can feel welcome and supported. Any stage of Parkinson’s Disease is welcome. \nThis is an open group that meets the first Thursday of the month; come as often as you are able. No RSVP required. The group meets in the second-floor lounge of The Heritage at Lyngblomsten (1440 Midway Parkway\, Saint Paul). \nFor more information\, contact Jay Haukom at 651.632.5391 or jhaukom@lyngblomsten.org.
URL:https://lyngblomsten.org/event/parkinsons-support-group/2030-01-03/
LOCATION:The Heritage at Lyngblomsten\, 1440 Midway Parkway\, Saint Paul\, MN\, 55108\, United States
CATEGORIES:Como Park
END:VEVENT
END:VCALENDAR