BEGIN:VCALENDAR
VERSION:2.0
PRODID:-//Lyngblomsten - ECPv6.15.14//NONSGML v1.0//EN
CALSCALE:GREGORIAN
METHOD:PUBLISH
X-ORIGINAL-URL:https://lyngblomsten.org
X-WR-CALDESC:Events for Lyngblomsten
REFRESH-INTERVAL;VALUE=DURATION:PT1H
X-Robots-Tag:noindex
X-PUBLISHED-TTL:PT1H
BEGIN:VTIMEZONE
TZID:America/Chicago
BEGIN:DAYLIGHT
TZOFFSETFROM:-0600
TZOFFSETTO:-0500
TZNAME:CDT
DTSTART:20290311T080000
END:DAYLIGHT
BEGIN:STANDARD
TZOFFSETFROM:-0500
TZOFFSETTO:-0600
TZNAME:CST
DTSTART:20291104T070000
END:STANDARD
BEGIN:DAYLIGHT
TZOFFSETFROM:-0600
TZOFFSETTO:-0500
TZNAME:CDT
DTSTART:20300310T080000
END:DAYLIGHT
BEGIN:STANDARD
TZOFFSETFROM:-0500
TZOFFSETTO:-0600
TZNAME:CST
DTSTART:20301103T070000
END:STANDARD
BEGIN:DAYLIGHT
TZOFFSETFROM:-0600
TZOFFSETTO:-0500
TZNAME:CDT
DTSTART:20310309T080000
END:DAYLIGHT
BEGIN:STANDARD
TZOFFSETFROM:-0500
TZOFFSETTO:-0600
TZNAME:CST
DTSTART:20311102T070000
END:STANDARD
END:VTIMEZONE
BEGIN:VEVENT
DTSTART;TZID=America/Chicago:20300310T103000
DTEND;TZID=America/Chicago:20300310T113000
DTSTAMP:20260421T173520
CREATED:20250728T184909Z
LAST-MODIFIED:20250730T211932Z
UID:10000770-1899369000-1899372600@lyngblomsten.org
SUMMARY:Sunday Worship Service
DESCRIPTION:Join us for our weekly ecumenical Sunday worship service in the Newman-Benson Chapel!
URL:https://lyngblomsten.org/event/sunday-worship-service/2030-03-10/
LOCATION:Newman-Benson Chapel (Lyngblomsten Care Center)\, 1415 Almond Avenue\, St. Paul\, MN\, 55108\, United States
CATEGORIES:Como Park,Corporate
ORGANIZER;CN="Rev. Ruth":MAILTO:rsorenson@lyngblomsten.org
END:VEVENT
BEGIN:VEVENT
DTSTART;TZID=America/Chicago:20300317T103000
DTEND;TZID=America/Chicago:20300317T113000
DTSTAMP:20260421T173520
CREATED:20250728T184909Z
LAST-MODIFIED:20250730T211932Z
UID:10000771-1899973800-1899977400@lyngblomsten.org
SUMMARY:Sunday Worship Service
DESCRIPTION:Join us for our weekly ecumenical Sunday worship service in the Newman-Benson Chapel!
URL:https://lyngblomsten.org/event/sunday-worship-service/2030-03-17/
LOCATION:Newman-Benson Chapel (Lyngblomsten Care Center)\, 1415 Almond Avenue\, St. Paul\, MN\, 55108\, United States
CATEGORIES:Como Park,Corporate
ORGANIZER;CN="Rev. Ruth":MAILTO:rsorenson@lyngblomsten.org
END:VEVENT
BEGIN:VEVENT
DTSTART;TZID=America/Chicago:20300324T103000
DTEND;TZID=America/Chicago:20300324T113000
DTSTAMP:20260421T173520
CREATED:20250728T184909Z
LAST-MODIFIED:20250730T211932Z
UID:10000772-1900578600-1900582200@lyngblomsten.org
SUMMARY:Sunday Worship Service
DESCRIPTION:Join us for our weekly ecumenical Sunday worship service in the Newman-Benson Chapel!
URL:https://lyngblomsten.org/event/sunday-worship-service/2030-03-24/
LOCATION:Newman-Benson Chapel (Lyngblomsten Care Center)\, 1415 Almond Avenue\, St. Paul\, MN\, 55108\, United States
CATEGORIES:Como Park,Corporate
ORGANIZER;CN="Rev. Ruth":MAILTO:rsorenson@lyngblomsten.org
END:VEVENT
BEGIN:VEVENT
DTSTART;TZID=America/Chicago:20300331T103000
DTEND;TZID=America/Chicago:20300331T113000
DTSTAMP:20260421T173520
CREATED:20250728T184909Z
LAST-MODIFIED:20250730T211932Z
UID:10000773-1901183400-1901187000@lyngblomsten.org
SUMMARY:Sunday Worship Service
DESCRIPTION:Join us for our weekly ecumenical Sunday worship service in the Newman-Benson Chapel!
URL:https://lyngblomsten.org/event/sunday-worship-service/2030-03-31/
LOCATION:Newman-Benson Chapel (Lyngblomsten Care Center)\, 1415 Almond Avenue\, St. Paul\, MN\, 55108\, United States
CATEGORIES:Como Park,Corporate
ORGANIZER;CN="Rev. Ruth":MAILTO:rsorenson@lyngblomsten.org
END:VEVENT
BEGIN:VEVENT
DTSTART;TZID=America/Chicago:20300404T130000
DTEND;TZID=America/Chicago:20300404T143000
DTSTAMP:20260421T173520
CREATED:20251009T185001Z
LAST-MODIFIED:20251009T185001Z
UID:10000968-1901538000-1901543400@lyngblomsten.org
SUMMARY:Parkinson's Support Group
DESCRIPTION:This Parkinson’s Disease Support Group is an informal\, self-managed organization of persons with Parkinson’s and their caregivers whose purpose is to share information and offer mutual support in a spirit of self-acceptance. It’s a place where other family members and friends can feel welcome and supported. Any stage of Parkinson’s Disease is welcome. \nThis is an open group that meets the first Thursday of the month; come as often as you are able. No RSVP required. The group meets in the second-floor lounge of The Heritage at Lyngblomsten (1440 Midway Parkway\, Saint Paul). \nFor more information\, contact Jay Haukom at 651.632.5391 or jhaukom@lyngblomsten.org.
URL:https://lyngblomsten.org/event/parkinsons-support-group/2030-04-04/
LOCATION:The Heritage at Lyngblomsten\, 1440 Midway Parkway\, Saint Paul\, MN\, 55108\, United States
CATEGORIES:Como Park
END:VEVENT
BEGIN:VEVENT
DTSTART;TZID=America/Chicago:20300407T103000
DTEND;TZID=America/Chicago:20300407T113000
DTSTAMP:20260421T173520
CREATED:20250728T184909Z
LAST-MODIFIED:20250730T211932Z
UID:10000774-1901788200-1901791800@lyngblomsten.org
SUMMARY:Sunday Worship Service
DESCRIPTION:Join us for our weekly ecumenical Sunday worship service in the Newman-Benson Chapel!
URL:https://lyngblomsten.org/event/sunday-worship-service/2030-04-07/
LOCATION:Newman-Benson Chapel (Lyngblomsten Care Center)\, 1415 Almond Avenue\, St. Paul\, MN\, 55108\, United States
CATEGORIES:Como Park,Corporate
ORGANIZER;CN="Rev. Ruth":MAILTO:rsorenson@lyngblomsten.org
END:VEVENT
BEGIN:VEVENT
DTSTART;TZID=America/Chicago:20300414T103000
DTEND;TZID=America/Chicago:20300414T113000
DTSTAMP:20260421T173520
CREATED:20250728T184909Z
LAST-MODIFIED:20250730T211932Z
UID:10000775-1902393000-1902396600@lyngblomsten.org
SUMMARY:Sunday Worship Service
DESCRIPTION:Join us for our weekly ecumenical Sunday worship service in the Newman-Benson Chapel!
URL:https://lyngblomsten.org/event/sunday-worship-service/2030-04-14/
LOCATION:Newman-Benson Chapel (Lyngblomsten Care Center)\, 1415 Almond Avenue\, St. Paul\, MN\, 55108\, United States
CATEGORIES:Como Park,Corporate
ORGANIZER;CN="Rev. Ruth":MAILTO:rsorenson@lyngblomsten.org
END:VEVENT
BEGIN:VEVENT
DTSTART;TZID=America/Chicago:20300421T103000
DTEND;TZID=America/Chicago:20300421T113000
DTSTAMP:20260421T173520
CREATED:20250728T184909Z
LAST-MODIFIED:20250730T211932Z
UID:10000776-1902997800-1903001400@lyngblomsten.org
SUMMARY:Sunday Worship Service
DESCRIPTION:Join us for our weekly ecumenical Sunday worship service in the Newman-Benson Chapel!
URL:https://lyngblomsten.org/event/sunday-worship-service/2030-04-21/
LOCATION:Newman-Benson Chapel (Lyngblomsten Care Center)\, 1415 Almond Avenue\, St. Paul\, MN\, 55108\, United States
CATEGORIES:Como Park,Corporate
ORGANIZER;CN="Rev. Ruth":MAILTO:rsorenson@lyngblomsten.org
END:VEVENT
BEGIN:VEVENT
DTSTART;TZID=America/Chicago:20300428T103000
DTEND;TZID=America/Chicago:20300428T113000
DTSTAMP:20260421T173520
CREATED:20250728T184909Z
LAST-MODIFIED:20250730T211932Z
UID:10000777-1903602600-1903606200@lyngblomsten.org
SUMMARY:Sunday Worship Service
DESCRIPTION:Join us for our weekly ecumenical Sunday worship service in the Newman-Benson Chapel!
URL:https://lyngblomsten.org/event/sunday-worship-service/2030-04-28/
LOCATION:Newman-Benson Chapel (Lyngblomsten Care Center)\, 1415 Almond Avenue\, St. Paul\, MN\, 55108\, United States
CATEGORIES:Como Park,Corporate
ORGANIZER;CN="Rev. Ruth":MAILTO:rsorenson@lyngblomsten.org
END:VEVENT
BEGIN:VEVENT
DTSTART;TZID=America/Chicago:20300502T130000
DTEND;TZID=America/Chicago:20300502T143000
DTSTAMP:20260421T173520
CREATED:20251009T185001Z
LAST-MODIFIED:20251009T185001Z
UID:10000969-1903957200-1903962600@lyngblomsten.org
SUMMARY:Parkinson's Support Group
DESCRIPTION:This Parkinson’s Disease Support Group is an informal\, self-managed organization of persons with Parkinson’s and their caregivers whose purpose is to share information and offer mutual support in a spirit of self-acceptance. It’s a place where other family members and friends can feel welcome and supported. Any stage of Parkinson’s Disease is welcome. \nThis is an open group that meets the first Thursday of the month; come as often as you are able. No RSVP required. The group meets in the second-floor lounge of The Heritage at Lyngblomsten (1440 Midway Parkway\, Saint Paul). \nFor more information\, contact Jay Haukom at 651.632.5391 or jhaukom@lyngblomsten.org.
URL:https://lyngblomsten.org/event/parkinsons-support-group/2030-05-02/
LOCATION:The Heritage at Lyngblomsten\, 1440 Midway Parkway\, Saint Paul\, MN\, 55108\, United States
CATEGORIES:Como Park
END:VEVENT
BEGIN:VEVENT
DTSTART;TZID=America/Chicago:20300505T103000
DTEND;TZID=America/Chicago:20300505T113000
DTSTAMP:20260421T173520
CREATED:20250728T184909Z
LAST-MODIFIED:20250730T211932Z
UID:10000778-1904207400-1904211000@lyngblomsten.org
SUMMARY:Sunday Worship Service
DESCRIPTION:Join us for our weekly ecumenical Sunday worship service in the Newman-Benson Chapel!
URL:https://lyngblomsten.org/event/sunday-worship-service/2030-05-05/
LOCATION:Newman-Benson Chapel (Lyngblomsten Care Center)\, 1415 Almond Avenue\, St. Paul\, MN\, 55108\, United States
CATEGORIES:Como Park,Corporate
ORGANIZER;CN="Rev. Ruth":MAILTO:rsorenson@lyngblomsten.org
END:VEVENT
BEGIN:VEVENT
DTSTART;TZID=America/Chicago:20300512T103000
DTEND;TZID=America/Chicago:20300512T113000
DTSTAMP:20260421T173520
CREATED:20250728T184909Z
LAST-MODIFIED:20250730T211932Z
UID:10000779-1904812200-1904815800@lyngblomsten.org
SUMMARY:Sunday Worship Service
DESCRIPTION:Join us for our weekly ecumenical Sunday worship service in the Newman-Benson Chapel!
URL:https://lyngblomsten.org/event/sunday-worship-service/2030-05-12/
LOCATION:Newman-Benson Chapel (Lyngblomsten Care Center)\, 1415 Almond Avenue\, St. Paul\, MN\, 55108\, United States
CATEGORIES:Como Park,Corporate
ORGANIZER;CN="Rev. Ruth":MAILTO:rsorenson@lyngblomsten.org
END:VEVENT
BEGIN:VEVENT
DTSTART;TZID=America/Chicago:20300519T103000
DTEND;TZID=America/Chicago:20300519T113000
DTSTAMP:20260421T173520
CREATED:20250728T184909Z
LAST-MODIFIED:20250730T211932Z
UID:10000780-1905417000-1905420600@lyngblomsten.org
SUMMARY:Sunday Worship Service
DESCRIPTION:Join us for our weekly ecumenical Sunday worship service in the Newman-Benson Chapel!
URL:https://lyngblomsten.org/event/sunday-worship-service/2030-05-19/
LOCATION:Newman-Benson Chapel (Lyngblomsten Care Center)\, 1415 Almond Avenue\, St. Paul\, MN\, 55108\, United States
CATEGORIES:Como Park,Corporate
ORGANIZER;CN="Rev. Ruth":MAILTO:rsorenson@lyngblomsten.org
END:VEVENT
BEGIN:VEVENT
DTSTART;TZID=America/Chicago:20300526T103000
DTEND;TZID=America/Chicago:20300526T113000
DTSTAMP:20260421T173520
CREATED:20250728T184909Z
LAST-MODIFIED:20250730T211932Z
UID:10000781-1906021800-1906025400@lyngblomsten.org
SUMMARY:Sunday Worship Service
DESCRIPTION:Join us for our weekly ecumenical Sunday worship service in the Newman-Benson Chapel!
URL:https://lyngblomsten.org/event/sunday-worship-service/2030-05-26/
LOCATION:Newman-Benson Chapel (Lyngblomsten Care Center)\, 1415 Almond Avenue\, St. Paul\, MN\, 55108\, United States
CATEGORIES:Como Park,Corporate
ORGANIZER;CN="Rev. Ruth":MAILTO:rsorenson@lyngblomsten.org
END:VEVENT
BEGIN:VEVENT
DTSTART;TZID=America/Chicago:20300602T103000
DTEND;TZID=America/Chicago:20300602T113000
DTSTAMP:20260421T173520
CREATED:20250728T184909Z
LAST-MODIFIED:20250730T211932Z
UID:10000782-1906626600-1906630200@lyngblomsten.org
SUMMARY:Sunday Worship Service
DESCRIPTION:Join us for our weekly ecumenical Sunday worship service in the Newman-Benson Chapel!
URL:https://lyngblomsten.org/event/sunday-worship-service/2030-06-02/
LOCATION:Newman-Benson Chapel (Lyngblomsten Care Center)\, 1415 Almond Avenue\, St. Paul\, MN\, 55108\, United States
CATEGORIES:Como Park,Corporate
ORGANIZER;CN="Rev. Ruth":MAILTO:rsorenson@lyngblomsten.org
END:VEVENT
BEGIN:VEVENT
DTSTART;TZID=America/Chicago:20300606T130000
DTEND;TZID=America/Chicago:20300606T143000
DTSTAMP:20260421T173520
CREATED:20251009T185001Z
LAST-MODIFIED:20251009T185001Z
UID:10000970-1906981200-1906986600@lyngblomsten.org
SUMMARY:Parkinson's Support Group
DESCRIPTION:This Parkinson’s Disease Support Group is an informal\, self-managed organization of persons with Parkinson’s and their caregivers whose purpose is to share information and offer mutual support in a spirit of self-acceptance. It’s a place where other family members and friends can feel welcome and supported. Any stage of Parkinson’s Disease is welcome. \nThis is an open group that meets the first Thursday of the month; come as often as you are able. No RSVP required. The group meets in the second-floor lounge of The Heritage at Lyngblomsten (1440 Midway Parkway\, Saint Paul). \nFor more information\, contact Jay Haukom at 651.632.5391 or jhaukom@lyngblomsten.org.
URL:https://lyngblomsten.org/event/parkinsons-support-group/2030-06-06/
LOCATION:The Heritage at Lyngblomsten\, 1440 Midway Parkway\, Saint Paul\, MN\, 55108\, United States
CATEGORIES:Como Park
END:VEVENT
BEGIN:VEVENT
DTSTART;TZID=America/Chicago:20300609T103000
DTEND;TZID=America/Chicago:20300609T113000
DTSTAMP:20260421T173520
CREATED:20250728T184909Z
LAST-MODIFIED:20250730T211932Z
UID:10000783-1907231400-1907235000@lyngblomsten.org
SUMMARY:Sunday Worship Service
DESCRIPTION:Join us for our weekly ecumenical Sunday worship service in the Newman-Benson Chapel!
URL:https://lyngblomsten.org/event/sunday-worship-service/2030-06-09/
LOCATION:Newman-Benson Chapel (Lyngblomsten Care Center)\, 1415 Almond Avenue\, St. Paul\, MN\, 55108\, United States
CATEGORIES:Como Park,Corporate
ORGANIZER;CN="Rev. Ruth":MAILTO:rsorenson@lyngblomsten.org
END:VEVENT
BEGIN:VEVENT
DTSTART;TZID=America/Chicago:20300616T103000
DTEND;TZID=America/Chicago:20300616T113000
DTSTAMP:20260421T173520
CREATED:20250728T184909Z
LAST-MODIFIED:20250730T211932Z
UID:10000784-1907836200-1907839800@lyngblomsten.org
SUMMARY:Sunday Worship Service
DESCRIPTION:Join us for our weekly ecumenical Sunday worship service in the Newman-Benson Chapel!
URL:https://lyngblomsten.org/event/sunday-worship-service/2030-06-16/
LOCATION:Newman-Benson Chapel (Lyngblomsten Care Center)\, 1415 Almond Avenue\, St. Paul\, MN\, 55108\, United States
CATEGORIES:Como Park,Corporate
ORGANIZER;CN="Rev. Ruth":MAILTO:rsorenson@lyngblomsten.org
END:VEVENT
BEGIN:VEVENT
DTSTART;TZID=America/Chicago:20300623T103000
DTEND;TZID=America/Chicago:20300623T113000
DTSTAMP:20260421T173520
CREATED:20250728T184909Z
LAST-MODIFIED:20250730T211932Z
UID:10000785-1908441000-1908444600@lyngblomsten.org
SUMMARY:Sunday Worship Service
DESCRIPTION:Join us for our weekly ecumenical Sunday worship service in the Newman-Benson Chapel!
URL:https://lyngblomsten.org/event/sunday-worship-service/2030-06-23/
LOCATION:Newman-Benson Chapel (Lyngblomsten Care Center)\, 1415 Almond Avenue\, St. Paul\, MN\, 55108\, United States
CATEGORIES:Como Park,Corporate
ORGANIZER;CN="Rev. Ruth":MAILTO:rsorenson@lyngblomsten.org
END:VEVENT
BEGIN:VEVENT
DTSTART;TZID=America/Chicago:20300630T103000
DTEND;TZID=America/Chicago:20300630T113000
DTSTAMP:20260421T173520
CREATED:20250728T184909Z
LAST-MODIFIED:20250730T211932Z
UID:10000786-1909045800-1909049400@lyngblomsten.org
SUMMARY:Sunday Worship Service
DESCRIPTION:Join us for our weekly ecumenical Sunday worship service in the Newman-Benson Chapel!
URL:https://lyngblomsten.org/event/sunday-worship-service/2030-06-30/
LOCATION:Newman-Benson Chapel (Lyngblomsten Care Center)\, 1415 Almond Avenue\, St. Paul\, MN\, 55108\, United States
CATEGORIES:Como Park,Corporate
ORGANIZER;CN="Rev. Ruth":MAILTO:rsorenson@lyngblomsten.org
END:VEVENT
BEGIN:VEVENT
DTSTART;TZID=America/Chicago:20300704T130000
DTEND;TZID=America/Chicago:20300704T143000
DTSTAMP:20260421T173520
CREATED:20251009T185001Z
LAST-MODIFIED:20251009T185001Z
UID:10000971-1909400400-1909405800@lyngblomsten.org
SUMMARY:Parkinson's Support Group
DESCRIPTION:This Parkinson’s Disease Support Group is an informal\, self-managed organization of persons with Parkinson’s and their caregivers whose purpose is to share information and offer mutual support in a spirit of self-acceptance. It’s a place where other family members and friends can feel welcome and supported. Any stage of Parkinson’s Disease is welcome. \nThis is an open group that meets the first Thursday of the month; come as often as you are able. No RSVP required. The group meets in the second-floor lounge of The Heritage at Lyngblomsten (1440 Midway Parkway\, Saint Paul). \nFor more information\, contact Jay Haukom at 651.632.5391 or jhaukom@lyngblomsten.org.
URL:https://lyngblomsten.org/event/parkinsons-support-group/2030-07-04/
LOCATION:The Heritage at Lyngblomsten\, 1440 Midway Parkway\, Saint Paul\, MN\, 55108\, United States
CATEGORIES:Como Park
END:VEVENT
BEGIN:VEVENT
DTSTART;TZID=America/Chicago:20300707T103000
DTEND;TZID=America/Chicago:20300707T113000
DTSTAMP:20260421T173520
CREATED:20250728T184909Z
LAST-MODIFIED:20250730T211932Z
UID:10000787-1909650600-1909654200@lyngblomsten.org
SUMMARY:Sunday Worship Service
DESCRIPTION:Join us for our weekly ecumenical Sunday worship service in the Newman-Benson Chapel!
URL:https://lyngblomsten.org/event/sunday-worship-service/2030-07-07/
LOCATION:Newman-Benson Chapel (Lyngblomsten Care Center)\, 1415 Almond Avenue\, St. Paul\, MN\, 55108\, United States
CATEGORIES:Como Park,Corporate
ORGANIZER;CN="Rev. Ruth":MAILTO:rsorenson@lyngblomsten.org
END:VEVENT
BEGIN:VEVENT
DTSTART;TZID=America/Chicago:20300714T103000
DTEND;TZID=America/Chicago:20300714T113000
DTSTAMP:20260421T173520
CREATED:20250728T184909Z
LAST-MODIFIED:20250730T211932Z
UID:10000788-1910255400-1910259000@lyngblomsten.org
SUMMARY:Sunday Worship Service
DESCRIPTION:Join us for our weekly ecumenical Sunday worship service in the Newman-Benson Chapel!
URL:https://lyngblomsten.org/event/sunday-worship-service/2030-07-14/
LOCATION:Newman-Benson Chapel (Lyngblomsten Care Center)\, 1415 Almond Avenue\, St. Paul\, MN\, 55108\, United States
CATEGORIES:Como Park,Corporate
ORGANIZER;CN="Rev. Ruth":MAILTO:rsorenson@lyngblomsten.org
END:VEVENT
BEGIN:VEVENT
DTSTART;TZID=America/Chicago:20300721T103000
DTEND;TZID=America/Chicago:20300721T113000
DTSTAMP:20260421T173520
CREATED:20250728T184909Z
LAST-MODIFIED:20250730T211932Z
UID:10000789-1910860200-1910863800@lyngblomsten.org
SUMMARY:Sunday Worship Service
DESCRIPTION:Join us for our weekly ecumenical Sunday worship service in the Newman-Benson Chapel!
URL:https://lyngblomsten.org/event/sunday-worship-service/2030-07-21/
LOCATION:Newman-Benson Chapel (Lyngblomsten Care Center)\, 1415 Almond Avenue\, St. Paul\, MN\, 55108\, United States
CATEGORIES:Como Park,Corporate
ORGANIZER;CN="Rev. Ruth":MAILTO:rsorenson@lyngblomsten.org
END:VEVENT
BEGIN:VEVENT
DTSTART;TZID=America/Chicago:20300728T103000
DTEND;TZID=America/Chicago:20300728T113000
DTSTAMP:20260421T173520
CREATED:20250728T184909Z
LAST-MODIFIED:20250730T211932Z
UID:10000790-1911465000-1911468600@lyngblomsten.org
SUMMARY:Sunday Worship Service
DESCRIPTION:Join us for our weekly ecumenical Sunday worship service in the Newman-Benson Chapel!
URL:https://lyngblomsten.org/event/sunday-worship-service/2030-07-28/
LOCATION:Newman-Benson Chapel (Lyngblomsten Care Center)\, 1415 Almond Avenue\, St. Paul\, MN\, 55108\, United States
CATEGORIES:Como Park,Corporate
ORGANIZER;CN="Rev. Ruth":MAILTO:rsorenson@lyngblomsten.org
END:VEVENT
BEGIN:VEVENT
DTSTART;TZID=America/Chicago:20300801T130000
DTEND;TZID=America/Chicago:20300801T143000
DTSTAMP:20260421T173520
CREATED:20251009T185001Z
LAST-MODIFIED:20251009T185001Z
UID:10000972-1911819600-1911825000@lyngblomsten.org
SUMMARY:Parkinson's Support Group
DESCRIPTION:This Parkinson’s Disease Support Group is an informal\, self-managed organization of persons with Parkinson’s and their caregivers whose purpose is to share information and offer mutual support in a spirit of self-acceptance. It’s a place where other family members and friends can feel welcome and supported. Any stage of Parkinson’s Disease is welcome. \nThis is an open group that meets the first Thursday of the month; come as often as you are able. No RSVP required. The group meets in the second-floor lounge of The Heritage at Lyngblomsten (1440 Midway Parkway\, Saint Paul). \nFor more information\, contact Jay Haukom at 651.632.5391 or jhaukom@lyngblomsten.org.
URL:https://lyngblomsten.org/event/parkinsons-support-group/2030-08-01/
LOCATION:The Heritage at Lyngblomsten\, 1440 Midway Parkway\, Saint Paul\, MN\, 55108\, United States
CATEGORIES:Como Park
END:VEVENT
BEGIN:VEVENT
DTSTART;TZID=America/Chicago:20300905T130000
DTEND;TZID=America/Chicago:20300905T143000
DTSTAMP:20260421T173520
CREATED:20251009T185001Z
LAST-MODIFIED:20251009T185001Z
UID:10000973-1914843600-1914849000@lyngblomsten.org
SUMMARY:Parkinson's Support Group
DESCRIPTION:This Parkinson’s Disease Support Group is an informal\, self-managed organization of persons with Parkinson’s and their caregivers whose purpose is to share information and offer mutual support in a spirit of self-acceptance. It’s a place where other family members and friends can feel welcome and supported. Any stage of Parkinson’s Disease is welcome. \nThis is an open group that meets the first Thursday of the month; come as often as you are able. No RSVP required. The group meets in the second-floor lounge of The Heritage at Lyngblomsten (1440 Midway Parkway\, Saint Paul). \nFor more information\, contact Jay Haukom at 651.632.5391 or jhaukom@lyngblomsten.org.
URL:https://lyngblomsten.org/event/parkinsons-support-group/2030-09-05/
LOCATION:The Heritage at Lyngblomsten\, 1440 Midway Parkway\, Saint Paul\, MN\, 55108\, United States
CATEGORIES:Como Park
END:VEVENT
BEGIN:VEVENT
DTSTART;TZID=America/Chicago:20301003T130000
DTEND;TZID=America/Chicago:20301003T143000
DTSTAMP:20260421T173520
CREATED:20251009T185001Z
LAST-MODIFIED:20251009T185001Z
UID:10000974-1917262800-1917268200@lyngblomsten.org
SUMMARY:Parkinson's Support Group
DESCRIPTION:This Parkinson’s Disease Support Group is an informal\, self-managed organization of persons with Parkinson’s and their caregivers whose purpose is to share information and offer mutual support in a spirit of self-acceptance. It’s a place where other family members and friends can feel welcome and supported. Any stage of Parkinson’s Disease is welcome. \nThis is an open group that meets the first Thursday of the month; come as often as you are able. No RSVP required. The group meets in the second-floor lounge of The Heritage at Lyngblomsten (1440 Midway Parkway\, Saint Paul). \nFor more information\, contact Jay Haukom at 651.632.5391 or jhaukom@lyngblomsten.org.
URL:https://lyngblomsten.org/event/parkinsons-support-group/2030-10-03/
LOCATION:The Heritage at Lyngblomsten\, 1440 Midway Parkway\, Saint Paul\, MN\, 55108\, United States
CATEGORIES:Como Park
END:VEVENT
END:VCALENDAR