BEGIN:VCALENDAR
VERSION:2.0
PRODID:-//Lyngblomsten - ECPv6.15.14//NONSGML v1.0//EN
CALSCALE:GREGORIAN
METHOD:PUBLISH
X-ORIGINAL-URL:https://lyngblomsten.org
X-WR-CALDESC:Events for Lyngblomsten
REFRESH-INTERVAL;VALUE=DURATION:PT1H
X-Robots-Tag:noindex
X-PUBLISHED-TTL:PT1H
BEGIN:VTIMEZONE
TZID:America/Chicago
BEGIN:DAYLIGHT
TZOFFSETFROM:-0600
TZOFFSETTO:-0500
TZNAME:CDT
DTSTART:20280312T080000
END:DAYLIGHT
BEGIN:STANDARD
TZOFFSETFROM:-0500
TZOFFSETTO:-0600
TZNAME:CST
DTSTART:20281105T070000
END:STANDARD
BEGIN:DAYLIGHT
TZOFFSETFROM:-0600
TZOFFSETTO:-0500
TZNAME:CDT
DTSTART:20290311T080000
END:DAYLIGHT
BEGIN:STANDARD
TZOFFSETFROM:-0500
TZOFFSETTO:-0600
TZNAME:CST
DTSTART:20291104T070000
END:STANDARD
BEGIN:DAYLIGHT
TZOFFSETFROM:-0600
TZOFFSETTO:-0500
TZNAME:CDT
DTSTART:20300310T080000
END:DAYLIGHT
BEGIN:STANDARD
TZOFFSETFROM:-0500
TZOFFSETTO:-0600
TZNAME:CST
DTSTART:20301103T070000
END:STANDARD
BEGIN:DAYLIGHT
TZOFFSETFROM:-0600
TZOFFSETTO:-0500
TZNAME:CDT
DTSTART:20310309T080000
END:DAYLIGHT
BEGIN:STANDARD
TZOFFSETFROM:-0500
TZOFFSETTO:-0600
TZNAME:CST
DTSTART:20311102T070000
END:STANDARD
END:VTIMEZONE
BEGIN:VEVENT
DTSTART;TZID=America/Chicago:20291028T103000
DTEND;TZID=America/Chicago:20291028T113000
DTSTAMP:20260421T145339
CREATED:20250728T184909Z
LAST-MODIFIED:20250730T211932Z
UID:10000751-1887877800-1887881400@lyngblomsten.org
SUMMARY:Sunday Worship Service
DESCRIPTION:Join us for our weekly ecumenical Sunday worship service in the Newman-Benson Chapel!
URL:https://lyngblomsten.org/event/sunday-worship-service/2029-10-28/
LOCATION:Newman-Benson Chapel (Lyngblomsten Care Center)\, 1415 Almond Avenue\, St. Paul\, MN\, 55108\, United States
CATEGORIES:Como Park,Corporate
ORGANIZER;CN="Rev. Ruth":MAILTO:rsorenson@lyngblomsten.org
END:VEVENT
BEGIN:VEVENT
DTSTART;TZID=America/Chicago:20291101T130000
DTEND;TZID=America/Chicago:20291101T143000
DTSTAMP:20260421T145339
CREATED:20251009T185001Z
LAST-MODIFIED:20251009T185001Z
UID:10000963-1888232400-1888237800@lyngblomsten.org
SUMMARY:Parkinson's Support Group
DESCRIPTION:This Parkinson’s Disease Support Group is an informal\, self-managed organization of persons with Parkinson’s and their caregivers whose purpose is to share information and offer mutual support in a spirit of self-acceptance. It’s a place where other family members and friends can feel welcome and supported. Any stage of Parkinson’s Disease is welcome. \nThis is an open group that meets the first Thursday of the month; come as often as you are able. No RSVP required. The group meets in the second-floor lounge of The Heritage at Lyngblomsten (1440 Midway Parkway\, Saint Paul). \nFor more information\, contact Jay Haukom at 651.632.5391 or jhaukom@lyngblomsten.org.
URL:https://lyngblomsten.org/event/parkinsons-support-group/2029-11-01/
LOCATION:The Heritage at Lyngblomsten\, 1440 Midway Parkway\, Saint Paul\, MN\, 55108\, United States
CATEGORIES:Como Park
END:VEVENT
BEGIN:VEVENT
DTSTART;TZID=America/Chicago:20291104T103000
DTEND;TZID=America/Chicago:20291104T113000
DTSTAMP:20260421T145339
CREATED:20250728T184909Z
LAST-MODIFIED:20250730T211932Z
UID:10000752-1888482600-1888486200@lyngblomsten.org
SUMMARY:Sunday Worship Service
DESCRIPTION:Join us for our weekly ecumenical Sunday worship service in the Newman-Benson Chapel!
URL:https://lyngblomsten.org/event/sunday-worship-service/2029-11-04/
LOCATION:Newman-Benson Chapel (Lyngblomsten Care Center)\, 1415 Almond Avenue\, St. Paul\, MN\, 55108\, United States
CATEGORIES:Como Park,Corporate
ORGANIZER;CN="Rev. Ruth":MAILTO:rsorenson@lyngblomsten.org
END:VEVENT
BEGIN:VEVENT
DTSTART;TZID=America/Chicago:20291111T103000
DTEND;TZID=America/Chicago:20291111T113000
DTSTAMP:20260421T145339
CREATED:20250728T184909Z
LAST-MODIFIED:20250730T211932Z
UID:10000753-1889087400-1889091000@lyngblomsten.org
SUMMARY:Sunday Worship Service
DESCRIPTION:Join us for our weekly ecumenical Sunday worship service in the Newman-Benson Chapel!
URL:https://lyngblomsten.org/event/sunday-worship-service/2029-11-11/
LOCATION:Newman-Benson Chapel (Lyngblomsten Care Center)\, 1415 Almond Avenue\, St. Paul\, MN\, 55108\, United States
CATEGORIES:Como Park,Corporate
ORGANIZER;CN="Rev. Ruth":MAILTO:rsorenson@lyngblomsten.org
END:VEVENT
BEGIN:VEVENT
DTSTART;TZID=America/Chicago:20291118T103000
DTEND;TZID=America/Chicago:20291118T113000
DTSTAMP:20260421T145339
CREATED:20250728T184909Z
LAST-MODIFIED:20250730T211932Z
UID:10000754-1889692200-1889695800@lyngblomsten.org
SUMMARY:Sunday Worship Service
DESCRIPTION:Join us for our weekly ecumenical Sunday worship service in the Newman-Benson Chapel!
URL:https://lyngblomsten.org/event/sunday-worship-service/2029-11-18/
LOCATION:Newman-Benson Chapel (Lyngblomsten Care Center)\, 1415 Almond Avenue\, St. Paul\, MN\, 55108\, United States
CATEGORIES:Como Park,Corporate
ORGANIZER;CN="Rev. Ruth":MAILTO:rsorenson@lyngblomsten.org
END:VEVENT
BEGIN:VEVENT
DTSTART;TZID=America/Chicago:20291125T103000
DTEND;TZID=America/Chicago:20291125T113000
DTSTAMP:20260421T145339
CREATED:20250728T184909Z
LAST-MODIFIED:20250730T211932Z
UID:10000755-1890297000-1890300600@lyngblomsten.org
SUMMARY:Sunday Worship Service
DESCRIPTION:Join us for our weekly ecumenical Sunday worship service in the Newman-Benson Chapel!
URL:https://lyngblomsten.org/event/sunday-worship-service/2029-11-25/
LOCATION:Newman-Benson Chapel (Lyngblomsten Care Center)\, 1415 Almond Avenue\, St. Paul\, MN\, 55108\, United States
CATEGORIES:Como Park,Corporate
ORGANIZER;CN="Rev. Ruth":MAILTO:rsorenson@lyngblomsten.org
END:VEVENT
BEGIN:VEVENT
DTSTART;TZID=America/Chicago:20291202T103000
DTEND;TZID=America/Chicago:20291202T113000
DTSTAMP:20260421T145339
CREATED:20250728T184909Z
LAST-MODIFIED:20250730T211932Z
UID:10000756-1890901800-1890905400@lyngblomsten.org
SUMMARY:Sunday Worship Service
DESCRIPTION:Join us for our weekly ecumenical Sunday worship service in the Newman-Benson Chapel!
URL:https://lyngblomsten.org/event/sunday-worship-service/2029-12-02/
LOCATION:Newman-Benson Chapel (Lyngblomsten Care Center)\, 1415 Almond Avenue\, St. Paul\, MN\, 55108\, United States
CATEGORIES:Como Park,Corporate
ORGANIZER;CN="Rev. Ruth":MAILTO:rsorenson@lyngblomsten.org
END:VEVENT
BEGIN:VEVENT
DTSTART;TZID=America/Chicago:20291206T130000
DTEND;TZID=America/Chicago:20291206T143000
DTSTAMP:20260421T145339
CREATED:20251009T185001Z
LAST-MODIFIED:20251009T185001Z
UID:10000964-1891256400-1891261800@lyngblomsten.org
SUMMARY:Parkinson's Support Group
DESCRIPTION:This Parkinson’s Disease Support Group is an informal\, self-managed organization of persons with Parkinson’s and their caregivers whose purpose is to share information and offer mutual support in a spirit of self-acceptance. It’s a place where other family members and friends can feel welcome and supported. Any stage of Parkinson’s Disease is welcome. \nThis is an open group that meets the first Thursday of the month; come as often as you are able. No RSVP required. The group meets in the second-floor lounge of The Heritage at Lyngblomsten (1440 Midway Parkway\, Saint Paul). \nFor more information\, contact Jay Haukom at 651.632.5391 or jhaukom@lyngblomsten.org.
URL:https://lyngblomsten.org/event/parkinsons-support-group/2029-12-06/
LOCATION:The Heritage at Lyngblomsten\, 1440 Midway Parkway\, Saint Paul\, MN\, 55108\, United States
CATEGORIES:Como Park
END:VEVENT
BEGIN:VEVENT
DTSTART;TZID=America/Chicago:20291209T103000
DTEND;TZID=America/Chicago:20291209T113000
DTSTAMP:20260421T145339
CREATED:20250728T184909Z
LAST-MODIFIED:20250730T211932Z
UID:10000757-1891506600-1891510200@lyngblomsten.org
SUMMARY:Sunday Worship Service
DESCRIPTION:Join us for our weekly ecumenical Sunday worship service in the Newman-Benson Chapel!
URL:https://lyngblomsten.org/event/sunday-worship-service/2029-12-09/
LOCATION:Newman-Benson Chapel (Lyngblomsten Care Center)\, 1415 Almond Avenue\, St. Paul\, MN\, 55108\, United States
CATEGORIES:Como Park,Corporate
ORGANIZER;CN="Rev. Ruth":MAILTO:rsorenson@lyngblomsten.org
END:VEVENT
BEGIN:VEVENT
DTSTART;TZID=America/Chicago:20291216T103000
DTEND;TZID=America/Chicago:20291216T113000
DTSTAMP:20260421T145339
CREATED:20250728T184909Z
LAST-MODIFIED:20250730T211932Z
UID:10000758-1892111400-1892115000@lyngblomsten.org
SUMMARY:Sunday Worship Service
DESCRIPTION:Join us for our weekly ecumenical Sunday worship service in the Newman-Benson Chapel!
URL:https://lyngblomsten.org/event/sunday-worship-service/2029-12-16/
LOCATION:Newman-Benson Chapel (Lyngblomsten Care Center)\, 1415 Almond Avenue\, St. Paul\, MN\, 55108\, United States
CATEGORIES:Como Park,Corporate
ORGANIZER;CN="Rev. Ruth":MAILTO:rsorenson@lyngblomsten.org
END:VEVENT
BEGIN:VEVENT
DTSTART;TZID=America/Chicago:20291223T103000
DTEND;TZID=America/Chicago:20291223T113000
DTSTAMP:20260421T145339
CREATED:20250728T184909Z
LAST-MODIFIED:20250730T211932Z
UID:10000759-1892716200-1892719800@lyngblomsten.org
SUMMARY:Sunday Worship Service
DESCRIPTION:Join us for our weekly ecumenical Sunday worship service in the Newman-Benson Chapel!
URL:https://lyngblomsten.org/event/sunday-worship-service/2029-12-23/
LOCATION:Newman-Benson Chapel (Lyngblomsten Care Center)\, 1415 Almond Avenue\, St. Paul\, MN\, 55108\, United States
CATEGORIES:Como Park,Corporate
ORGANIZER;CN="Rev. Ruth":MAILTO:rsorenson@lyngblomsten.org
END:VEVENT
BEGIN:VEVENT
DTSTART;TZID=America/Chicago:20291230T103000
DTEND;TZID=America/Chicago:20291230T113000
DTSTAMP:20260421T145339
CREATED:20250728T184909Z
LAST-MODIFIED:20250730T211932Z
UID:10000760-1893321000-1893324600@lyngblomsten.org
SUMMARY:Sunday Worship Service
DESCRIPTION:Join us for our weekly ecumenical Sunday worship service in the Newman-Benson Chapel!
URL:https://lyngblomsten.org/event/sunday-worship-service/2029-12-30/
LOCATION:Newman-Benson Chapel (Lyngblomsten Care Center)\, 1415 Almond Avenue\, St. Paul\, MN\, 55108\, United States
CATEGORIES:Como Park,Corporate
ORGANIZER;CN="Rev. Ruth":MAILTO:rsorenson@lyngblomsten.org
END:VEVENT
BEGIN:VEVENT
DTSTART;TZID=America/Chicago:20300103T130000
DTEND;TZID=America/Chicago:20300103T143000
DTSTAMP:20260421T145339
CREATED:20251009T185001Z
LAST-MODIFIED:20251009T185001Z
UID:10000965-1893675600-1893681000@lyngblomsten.org
SUMMARY:Parkinson's Support Group
DESCRIPTION:This Parkinson’s Disease Support Group is an informal\, self-managed organization of persons with Parkinson’s and their caregivers whose purpose is to share information and offer mutual support in a spirit of self-acceptance. It’s a place where other family members and friends can feel welcome and supported. Any stage of Parkinson’s Disease is welcome. \nThis is an open group that meets the first Thursday of the month; come as often as you are able. No RSVP required. The group meets in the second-floor lounge of The Heritage at Lyngblomsten (1440 Midway Parkway\, Saint Paul). \nFor more information\, contact Jay Haukom at 651.632.5391 or jhaukom@lyngblomsten.org.
URL:https://lyngblomsten.org/event/parkinsons-support-group/2030-01-03/
LOCATION:The Heritage at Lyngblomsten\, 1440 Midway Parkway\, Saint Paul\, MN\, 55108\, United States
CATEGORIES:Como Park
END:VEVENT
BEGIN:VEVENT
DTSTART;TZID=America/Chicago:20300106T103000
DTEND;TZID=America/Chicago:20300106T113000
DTSTAMP:20260421T145339
CREATED:20250728T184909Z
LAST-MODIFIED:20250730T211932Z
UID:10000761-1893925800-1893929400@lyngblomsten.org
SUMMARY:Sunday Worship Service
DESCRIPTION:Join us for our weekly ecumenical Sunday worship service in the Newman-Benson Chapel!
URL:https://lyngblomsten.org/event/sunday-worship-service/2030-01-06/
LOCATION:Newman-Benson Chapel (Lyngblomsten Care Center)\, 1415 Almond Avenue\, St. Paul\, MN\, 55108\, United States
CATEGORIES:Como Park,Corporate
ORGANIZER;CN="Rev. Ruth":MAILTO:rsorenson@lyngblomsten.org
END:VEVENT
BEGIN:VEVENT
DTSTART;TZID=America/Chicago:20300113T103000
DTEND;TZID=America/Chicago:20300113T113000
DTSTAMP:20260421T145339
CREATED:20250728T184909Z
LAST-MODIFIED:20250730T211932Z
UID:10000762-1894530600-1894534200@lyngblomsten.org
SUMMARY:Sunday Worship Service
DESCRIPTION:Join us for our weekly ecumenical Sunday worship service in the Newman-Benson Chapel!
URL:https://lyngblomsten.org/event/sunday-worship-service/2030-01-13/
LOCATION:Newman-Benson Chapel (Lyngblomsten Care Center)\, 1415 Almond Avenue\, St. Paul\, MN\, 55108\, United States
CATEGORIES:Como Park,Corporate
ORGANIZER;CN="Rev. Ruth":MAILTO:rsorenson@lyngblomsten.org
END:VEVENT
BEGIN:VEVENT
DTSTART;TZID=America/Chicago:20300120T103000
DTEND;TZID=America/Chicago:20300120T113000
DTSTAMP:20260421T145339
CREATED:20250728T184909Z
LAST-MODIFIED:20250730T211932Z
UID:10000763-1895135400-1895139000@lyngblomsten.org
SUMMARY:Sunday Worship Service
DESCRIPTION:Join us for our weekly ecumenical Sunday worship service in the Newman-Benson Chapel!
URL:https://lyngblomsten.org/event/sunday-worship-service/2030-01-20/
LOCATION:Newman-Benson Chapel (Lyngblomsten Care Center)\, 1415 Almond Avenue\, St. Paul\, MN\, 55108\, United States
CATEGORIES:Como Park,Corporate
ORGANIZER;CN="Rev. Ruth":MAILTO:rsorenson@lyngblomsten.org
END:VEVENT
BEGIN:VEVENT
DTSTART;TZID=America/Chicago:20300127T103000
DTEND;TZID=America/Chicago:20300127T113000
DTSTAMP:20260421T145339
CREATED:20250728T184909Z
LAST-MODIFIED:20250730T211932Z
UID:10000764-1895740200-1895743800@lyngblomsten.org
SUMMARY:Sunday Worship Service
DESCRIPTION:Join us for our weekly ecumenical Sunday worship service in the Newman-Benson Chapel!
URL:https://lyngblomsten.org/event/sunday-worship-service/2030-01-27/
LOCATION:Newman-Benson Chapel (Lyngblomsten Care Center)\, 1415 Almond Avenue\, St. Paul\, MN\, 55108\, United States
CATEGORIES:Como Park,Corporate
ORGANIZER;CN="Rev. Ruth":MAILTO:rsorenson@lyngblomsten.org
END:VEVENT
BEGIN:VEVENT
DTSTART;TZID=America/Chicago:20300203T103000
DTEND;TZID=America/Chicago:20300203T113000
DTSTAMP:20260421T145339
CREATED:20250728T184909Z
LAST-MODIFIED:20250730T211932Z
UID:10000765-1896345000-1896348600@lyngblomsten.org
SUMMARY:Sunday Worship Service
DESCRIPTION:Join us for our weekly ecumenical Sunday worship service in the Newman-Benson Chapel!
URL:https://lyngblomsten.org/event/sunday-worship-service/2030-02-03/
LOCATION:Newman-Benson Chapel (Lyngblomsten Care Center)\, 1415 Almond Avenue\, St. Paul\, MN\, 55108\, United States
CATEGORIES:Como Park,Corporate
ORGANIZER;CN="Rev. Ruth":MAILTO:rsorenson@lyngblomsten.org
END:VEVENT
BEGIN:VEVENT
DTSTART;TZID=America/Chicago:20300207T130000
DTEND;TZID=America/Chicago:20300207T143000
DTSTAMP:20260421T145339
CREATED:20251009T185001Z
LAST-MODIFIED:20251009T185001Z
UID:10000966-1896699600-1896705000@lyngblomsten.org
SUMMARY:Parkinson's Support Group
DESCRIPTION:This Parkinson’s Disease Support Group is an informal\, self-managed organization of persons with Parkinson’s and their caregivers whose purpose is to share information and offer mutual support in a spirit of self-acceptance. It’s a place where other family members and friends can feel welcome and supported. Any stage of Parkinson’s Disease is welcome. \nThis is an open group that meets the first Thursday of the month; come as often as you are able. No RSVP required. The group meets in the second-floor lounge of The Heritage at Lyngblomsten (1440 Midway Parkway\, Saint Paul). \nFor more information\, contact Jay Haukom at 651.632.5391 or jhaukom@lyngblomsten.org.
URL:https://lyngblomsten.org/event/parkinsons-support-group/2030-02-07/
LOCATION:The Heritage at Lyngblomsten\, 1440 Midway Parkway\, Saint Paul\, MN\, 55108\, United States
CATEGORIES:Como Park
END:VEVENT
BEGIN:VEVENT
DTSTART;TZID=America/Chicago:20300210T103000
DTEND;TZID=America/Chicago:20300210T113000
DTSTAMP:20260421T145339
CREATED:20250728T184909Z
LAST-MODIFIED:20250730T211932Z
UID:10000766-1896949800-1896953400@lyngblomsten.org
SUMMARY:Sunday Worship Service
DESCRIPTION:Join us for our weekly ecumenical Sunday worship service in the Newman-Benson Chapel!
URL:https://lyngblomsten.org/event/sunday-worship-service/2030-02-10/
LOCATION:Newman-Benson Chapel (Lyngblomsten Care Center)\, 1415 Almond Avenue\, St. Paul\, MN\, 55108\, United States
CATEGORIES:Como Park,Corporate
ORGANIZER;CN="Rev. Ruth":MAILTO:rsorenson@lyngblomsten.org
END:VEVENT
BEGIN:VEVENT
DTSTART;TZID=America/Chicago:20300217T103000
DTEND;TZID=America/Chicago:20300217T113000
DTSTAMP:20260421T145339
CREATED:20250728T184909Z
LAST-MODIFIED:20250730T211932Z
UID:10000767-1897554600-1897558200@lyngblomsten.org
SUMMARY:Sunday Worship Service
DESCRIPTION:Join us for our weekly ecumenical Sunday worship service in the Newman-Benson Chapel!
URL:https://lyngblomsten.org/event/sunday-worship-service/2030-02-17/
LOCATION:Newman-Benson Chapel (Lyngblomsten Care Center)\, 1415 Almond Avenue\, St. Paul\, MN\, 55108\, United States
CATEGORIES:Como Park,Corporate
ORGANIZER;CN="Rev. Ruth":MAILTO:rsorenson@lyngblomsten.org
END:VEVENT
BEGIN:VEVENT
DTSTART;TZID=America/Chicago:20300224T103000
DTEND;TZID=America/Chicago:20300224T113000
DTSTAMP:20260421T145339
CREATED:20250728T184909Z
LAST-MODIFIED:20250730T211932Z
UID:10000768-1898159400-1898163000@lyngblomsten.org
SUMMARY:Sunday Worship Service
DESCRIPTION:Join us for our weekly ecumenical Sunday worship service in the Newman-Benson Chapel!
URL:https://lyngblomsten.org/event/sunday-worship-service/2030-02-24/
LOCATION:Newman-Benson Chapel (Lyngblomsten Care Center)\, 1415 Almond Avenue\, St. Paul\, MN\, 55108\, United States
CATEGORIES:Como Park,Corporate
ORGANIZER;CN="Rev. Ruth":MAILTO:rsorenson@lyngblomsten.org
END:VEVENT
BEGIN:VEVENT
DTSTART;TZID=America/Chicago:20300303T103000
DTEND;TZID=America/Chicago:20300303T113000
DTSTAMP:20260421T145339
CREATED:20250728T184909Z
LAST-MODIFIED:20250730T211932Z
UID:10000769-1898764200-1898767800@lyngblomsten.org
SUMMARY:Sunday Worship Service
DESCRIPTION:Join us for our weekly ecumenical Sunday worship service in the Newman-Benson Chapel!
URL:https://lyngblomsten.org/event/sunday-worship-service/2030-03-03/
LOCATION:Newman-Benson Chapel (Lyngblomsten Care Center)\, 1415 Almond Avenue\, St. Paul\, MN\, 55108\, United States
CATEGORIES:Como Park,Corporate
ORGANIZER;CN="Rev. Ruth":MAILTO:rsorenson@lyngblomsten.org
END:VEVENT
BEGIN:VEVENT
DTSTART;TZID=America/Chicago:20300307T130000
DTEND;TZID=America/Chicago:20300307T143000
DTSTAMP:20260421T145339
CREATED:20251009T185001Z
LAST-MODIFIED:20251009T185001Z
UID:10000967-1899118800-1899124200@lyngblomsten.org
SUMMARY:Parkinson's Support Group
DESCRIPTION:This Parkinson’s Disease Support Group is an informal\, self-managed organization of persons with Parkinson’s and their caregivers whose purpose is to share information and offer mutual support in a spirit of self-acceptance. It’s a place where other family members and friends can feel welcome and supported. Any stage of Parkinson’s Disease is welcome. \nThis is an open group that meets the first Thursday of the month; come as often as you are able. No RSVP required. The group meets in the second-floor lounge of The Heritage at Lyngblomsten (1440 Midway Parkway\, Saint Paul). \nFor more information\, contact Jay Haukom at 651.632.5391 or jhaukom@lyngblomsten.org.
URL:https://lyngblomsten.org/event/parkinsons-support-group/2030-03-07/
LOCATION:The Heritage at Lyngblomsten\, 1440 Midway Parkway\, Saint Paul\, MN\, 55108\, United States
CATEGORIES:Como Park
END:VEVENT
BEGIN:VEVENT
DTSTART;TZID=America/Chicago:20300310T103000
DTEND;TZID=America/Chicago:20300310T113000
DTSTAMP:20260421T145339
CREATED:20250728T184909Z
LAST-MODIFIED:20250730T211932Z
UID:10000770-1899369000-1899372600@lyngblomsten.org
SUMMARY:Sunday Worship Service
DESCRIPTION:Join us for our weekly ecumenical Sunday worship service in the Newman-Benson Chapel!
URL:https://lyngblomsten.org/event/sunday-worship-service/2030-03-10/
LOCATION:Newman-Benson Chapel (Lyngblomsten Care Center)\, 1415 Almond Avenue\, St. Paul\, MN\, 55108\, United States
CATEGORIES:Como Park,Corporate
ORGANIZER;CN="Rev. Ruth":MAILTO:rsorenson@lyngblomsten.org
END:VEVENT
BEGIN:VEVENT
DTSTART;TZID=America/Chicago:20300317T103000
DTEND;TZID=America/Chicago:20300317T113000
DTSTAMP:20260421T145339
CREATED:20250728T184909Z
LAST-MODIFIED:20250730T211932Z
UID:10000771-1899973800-1899977400@lyngblomsten.org
SUMMARY:Sunday Worship Service
DESCRIPTION:Join us for our weekly ecumenical Sunday worship service in the Newman-Benson Chapel!
URL:https://lyngblomsten.org/event/sunday-worship-service/2030-03-17/
LOCATION:Newman-Benson Chapel (Lyngblomsten Care Center)\, 1415 Almond Avenue\, St. Paul\, MN\, 55108\, United States
CATEGORIES:Como Park,Corporate
ORGANIZER;CN="Rev. Ruth":MAILTO:rsorenson@lyngblomsten.org
END:VEVENT
BEGIN:VEVENT
DTSTART;TZID=America/Chicago:20300324T103000
DTEND;TZID=America/Chicago:20300324T113000
DTSTAMP:20260421T145339
CREATED:20250728T184909Z
LAST-MODIFIED:20250730T211932Z
UID:10000772-1900578600-1900582200@lyngblomsten.org
SUMMARY:Sunday Worship Service
DESCRIPTION:Join us for our weekly ecumenical Sunday worship service in the Newman-Benson Chapel!
URL:https://lyngblomsten.org/event/sunday-worship-service/2030-03-24/
LOCATION:Newman-Benson Chapel (Lyngblomsten Care Center)\, 1415 Almond Avenue\, St. Paul\, MN\, 55108\, United States
CATEGORIES:Como Park,Corporate
ORGANIZER;CN="Rev. Ruth":MAILTO:rsorenson@lyngblomsten.org
END:VEVENT
BEGIN:VEVENT
DTSTART;TZID=America/Chicago:20300331T103000
DTEND;TZID=America/Chicago:20300331T113000
DTSTAMP:20260421T145339
CREATED:20250728T184909Z
LAST-MODIFIED:20250730T211932Z
UID:10000773-1901183400-1901187000@lyngblomsten.org
SUMMARY:Sunday Worship Service
DESCRIPTION:Join us for our weekly ecumenical Sunday worship service in the Newman-Benson Chapel!
URL:https://lyngblomsten.org/event/sunday-worship-service/2030-03-31/
LOCATION:Newman-Benson Chapel (Lyngblomsten Care Center)\, 1415 Almond Avenue\, St. Paul\, MN\, 55108\, United States
CATEGORIES:Como Park,Corporate
ORGANIZER;CN="Rev. Ruth":MAILTO:rsorenson@lyngblomsten.org
END:VEVENT
BEGIN:VEVENT
DTSTART;TZID=America/Chicago:20300404T130000
DTEND;TZID=America/Chicago:20300404T143000
DTSTAMP:20260421T145339
CREATED:20251009T185001Z
LAST-MODIFIED:20251009T185001Z
UID:10000968-1901538000-1901543400@lyngblomsten.org
SUMMARY:Parkinson's Support Group
DESCRIPTION:This Parkinson’s Disease Support Group is an informal\, self-managed organization of persons with Parkinson’s and their caregivers whose purpose is to share information and offer mutual support in a spirit of self-acceptance. It’s a place where other family members and friends can feel welcome and supported. Any stage of Parkinson’s Disease is welcome. \nThis is an open group that meets the first Thursday of the month; come as often as you are able. No RSVP required. The group meets in the second-floor lounge of The Heritage at Lyngblomsten (1440 Midway Parkway\, Saint Paul). \nFor more information\, contact Jay Haukom at 651.632.5391 or jhaukom@lyngblomsten.org.
URL:https://lyngblomsten.org/event/parkinsons-support-group/2030-04-04/
LOCATION:The Heritage at Lyngblomsten\, 1440 Midway Parkway\, Saint Paul\, MN\, 55108\, United States
CATEGORIES:Como Park
END:VEVENT
BEGIN:VEVENT
DTSTART;TZID=America/Chicago:20300407T103000
DTEND;TZID=America/Chicago:20300407T113000
DTSTAMP:20260421T145339
CREATED:20250728T184909Z
LAST-MODIFIED:20250730T211932Z
UID:10000774-1901788200-1901791800@lyngblomsten.org
SUMMARY:Sunday Worship Service
DESCRIPTION:Join us for our weekly ecumenical Sunday worship service in the Newman-Benson Chapel!
URL:https://lyngblomsten.org/event/sunday-worship-service/2030-04-07/
LOCATION:Newman-Benson Chapel (Lyngblomsten Care Center)\, 1415 Almond Avenue\, St. Paul\, MN\, 55108\, United States
CATEGORIES:Como Park,Corporate
ORGANIZER;CN="Rev. Ruth":MAILTO:rsorenson@lyngblomsten.org
END:VEVENT
END:VCALENDAR