BEGIN:VCALENDAR
VERSION:2.0
PRODID:-//Lyngblomsten - ECPv6.15.14//NONSGML v1.0//EN
CALSCALE:GREGORIAN
METHOD:PUBLISH
X-ORIGINAL-URL:https://lyngblomsten.org
X-WR-CALDESC:Events for Lyngblomsten
REFRESH-INTERVAL;VALUE=DURATION:PT1H
X-Robots-Tag:noindex
X-PUBLISHED-TTL:PT1H
BEGIN:VTIMEZONE
TZID:America/Chicago
BEGIN:DAYLIGHT
TZOFFSETFROM:-0600
TZOFFSETTO:-0500
TZNAME:CDT
DTSTART:20260308T080000
END:DAYLIGHT
BEGIN:STANDARD
TZOFFSETFROM:-0500
TZOFFSETTO:-0600
TZNAME:CST
DTSTART:20261101T070000
END:STANDARD
BEGIN:DAYLIGHT
TZOFFSETFROM:-0600
TZOFFSETTO:-0500
TZNAME:CDT
DTSTART:20270314T080000
END:DAYLIGHT
BEGIN:STANDARD
TZOFFSETFROM:-0500
TZOFFSETTO:-0600
TZNAME:CST
DTSTART:20271107T070000
END:STANDARD
BEGIN:DAYLIGHT
TZOFFSETFROM:-0600
TZOFFSETTO:-0500
TZNAME:CDT
DTSTART:20280312T080000
END:DAYLIGHT
BEGIN:STANDARD
TZOFFSETFROM:-0500
TZOFFSETTO:-0600
TZNAME:CST
DTSTART:20281105T070000
END:STANDARD
BEGIN:DAYLIGHT
TZOFFSETFROM:-0600
TZOFFSETTO:-0500
TZNAME:CDT
DTSTART:20290311T080000
END:DAYLIGHT
BEGIN:STANDARD
TZOFFSETFROM:-0500
TZOFFSETTO:-0600
TZNAME:CST
DTSTART:20291104T070000
END:STANDARD
END:VTIMEZONE
BEGIN:VEVENT
DTSTART;TZID=America/Chicago:20270905T103000
DTEND;TZID=America/Chicago:20270905T113000
DTSTAMP:20260421T042422
CREATED:20250728T184909Z
LAST-MODIFIED:20250730T211932Z
UID:10000639-1820140200-1820143800@lyngblomsten.org
SUMMARY:Sunday Worship Service
DESCRIPTION:Join us for our weekly ecumenical Sunday worship service in the Newman-Benson Chapel!
URL:https://lyngblomsten.org/event/sunday-worship-service/2027-09-05/
LOCATION:Newman-Benson Chapel (Lyngblomsten Care Center)\, 1415 Almond Avenue\, St. Paul\, MN\, 55108\, United States
CATEGORIES:Como Park,Corporate
ORGANIZER;CN="Rev. Ruth":MAILTO:rsorenson@lyngblomsten.org
END:VEVENT
BEGIN:VEVENT
DTSTART;TZID=America/Chicago:20270912T103000
DTEND;TZID=America/Chicago:20270912T113000
DTSTAMP:20260421T042422
CREATED:20250728T184909Z
LAST-MODIFIED:20250730T211932Z
UID:10000640-1820745000-1820748600@lyngblomsten.org
SUMMARY:Sunday Worship Service
DESCRIPTION:Join us for our weekly ecumenical Sunday worship service in the Newman-Benson Chapel!
URL:https://lyngblomsten.org/event/sunday-worship-service/2027-09-12/
LOCATION:Newman-Benson Chapel (Lyngblomsten Care Center)\, 1415 Almond Avenue\, St. Paul\, MN\, 55108\, United States
CATEGORIES:Como Park,Corporate
ORGANIZER;CN="Rev. Ruth":MAILTO:rsorenson@lyngblomsten.org
END:VEVENT
BEGIN:VEVENT
DTSTART;TZID=America/Chicago:20270919T103000
DTEND;TZID=America/Chicago:20270919T113000
DTSTAMP:20260421T042422
CREATED:20250728T184909Z
LAST-MODIFIED:20250730T211932Z
UID:10000641-1821349800-1821353400@lyngblomsten.org
SUMMARY:Sunday Worship Service
DESCRIPTION:Join us for our weekly ecumenical Sunday worship service in the Newman-Benson Chapel!
URL:https://lyngblomsten.org/event/sunday-worship-service/2027-09-19/
LOCATION:Newman-Benson Chapel (Lyngblomsten Care Center)\, 1415 Almond Avenue\, St. Paul\, MN\, 55108\, United States
CATEGORIES:Como Park,Corporate
ORGANIZER;CN="Rev. Ruth":MAILTO:rsorenson@lyngblomsten.org
END:VEVENT
BEGIN:VEVENT
DTSTART;TZID=America/Chicago:20270926T103000
DTEND;TZID=America/Chicago:20270926T113000
DTSTAMP:20260421T042422
CREATED:20250728T184909Z
LAST-MODIFIED:20250730T211932Z
UID:10000642-1821954600-1821958200@lyngblomsten.org
SUMMARY:Sunday Worship Service
DESCRIPTION:Join us for our weekly ecumenical Sunday worship service in the Newman-Benson Chapel!
URL:https://lyngblomsten.org/event/sunday-worship-service/2027-09-26/
LOCATION:Newman-Benson Chapel (Lyngblomsten Care Center)\, 1415 Almond Avenue\, St. Paul\, MN\, 55108\, United States
CATEGORIES:Como Park,Corporate
ORGANIZER;CN="Rev. Ruth":MAILTO:rsorenson@lyngblomsten.org
END:VEVENT
BEGIN:VEVENT
DTSTART;TZID=America/Chicago:20271003T103000
DTEND;TZID=America/Chicago:20271003T113000
DTSTAMP:20260421T042422
CREATED:20250728T184909Z
LAST-MODIFIED:20250730T211932Z
UID:10000643-1822559400-1822563000@lyngblomsten.org
SUMMARY:Sunday Worship Service
DESCRIPTION:Join us for our weekly ecumenical Sunday worship service in the Newman-Benson Chapel!
URL:https://lyngblomsten.org/event/sunday-worship-service/2027-10-03/
LOCATION:Newman-Benson Chapel (Lyngblomsten Care Center)\, 1415 Almond Avenue\, St. Paul\, MN\, 55108\, United States
CATEGORIES:Como Park,Corporate
ORGANIZER;CN="Rev. Ruth":MAILTO:rsorenson@lyngblomsten.org
END:VEVENT
BEGIN:VEVENT
DTSTART;TZID=America/Chicago:20271007T130000
DTEND;TZID=America/Chicago:20271007T143000
DTSTAMP:20260421T042422
CREATED:20251009T185001Z
LAST-MODIFIED:20251009T185001Z
UID:10000938-1822914000-1822919400@lyngblomsten.org
SUMMARY:Parkinson's Support Group
DESCRIPTION:This Parkinson’s Disease Support Group is an informal\, self-managed organization of persons with Parkinson’s and their caregivers whose purpose is to share information and offer mutual support in a spirit of self-acceptance. It’s a place where other family members and friends can feel welcome and supported. Any stage of Parkinson’s Disease is welcome. \nThis is an open group that meets the first Thursday of the month; come as often as you are able. No RSVP required. The group meets in the second-floor lounge of The Heritage at Lyngblomsten (1440 Midway Parkway\, Saint Paul). \nFor more information\, contact Jay Haukom at 651.632.5391 or jhaukom@lyngblomsten.org.
URL:https://lyngblomsten.org/event/parkinsons-support-group/2027-10-07/
LOCATION:The Heritage at Lyngblomsten\, 1440 Midway Parkway\, Saint Paul\, MN\, 55108\, United States
CATEGORIES:Como Park
END:VEVENT
BEGIN:VEVENT
DTSTART;TZID=America/Chicago:20271010T103000
DTEND;TZID=America/Chicago:20271010T113000
DTSTAMP:20260421T042422
CREATED:20250728T184909Z
LAST-MODIFIED:20250730T211932Z
UID:10000644-1823164200-1823167800@lyngblomsten.org
SUMMARY:Sunday Worship Service
DESCRIPTION:Join us for our weekly ecumenical Sunday worship service in the Newman-Benson Chapel!
URL:https://lyngblomsten.org/event/sunday-worship-service/2027-10-10/
LOCATION:Newman-Benson Chapel (Lyngblomsten Care Center)\, 1415 Almond Avenue\, St. Paul\, MN\, 55108\, United States
CATEGORIES:Como Park,Corporate
ORGANIZER;CN="Rev. Ruth":MAILTO:rsorenson@lyngblomsten.org
END:VEVENT
BEGIN:VEVENT
DTSTART;TZID=America/Chicago:20271017T103000
DTEND;TZID=America/Chicago:20271017T113000
DTSTAMP:20260421T042422
CREATED:20250728T184909Z
LAST-MODIFIED:20250730T211932Z
UID:10000645-1823769000-1823772600@lyngblomsten.org
SUMMARY:Sunday Worship Service
DESCRIPTION:Join us for our weekly ecumenical Sunday worship service in the Newman-Benson Chapel!
URL:https://lyngblomsten.org/event/sunday-worship-service/2027-10-17/
LOCATION:Newman-Benson Chapel (Lyngblomsten Care Center)\, 1415 Almond Avenue\, St. Paul\, MN\, 55108\, United States
CATEGORIES:Como Park,Corporate
ORGANIZER;CN="Rev. Ruth":MAILTO:rsorenson@lyngblomsten.org
END:VEVENT
BEGIN:VEVENT
DTSTART;TZID=America/Chicago:20271024T103000
DTEND;TZID=America/Chicago:20271024T113000
DTSTAMP:20260421T042422
CREATED:20250728T184909Z
LAST-MODIFIED:20250730T211932Z
UID:10000646-1824373800-1824377400@lyngblomsten.org
SUMMARY:Sunday Worship Service
DESCRIPTION:Join us for our weekly ecumenical Sunday worship service in the Newman-Benson Chapel!
URL:https://lyngblomsten.org/event/sunday-worship-service/2027-10-24/
LOCATION:Newman-Benson Chapel (Lyngblomsten Care Center)\, 1415 Almond Avenue\, St. Paul\, MN\, 55108\, United States
CATEGORIES:Como Park,Corporate
ORGANIZER;CN="Rev. Ruth":MAILTO:rsorenson@lyngblomsten.org
END:VEVENT
BEGIN:VEVENT
DTSTART;TZID=America/Chicago:20271031T103000
DTEND;TZID=America/Chicago:20271031T113000
DTSTAMP:20260421T042422
CREATED:20250728T184909Z
LAST-MODIFIED:20250730T211932Z
UID:10000647-1824978600-1824982200@lyngblomsten.org
SUMMARY:Sunday Worship Service
DESCRIPTION:Join us for our weekly ecumenical Sunday worship service in the Newman-Benson Chapel!
URL:https://lyngblomsten.org/event/sunday-worship-service/2027-10-31/
LOCATION:Newman-Benson Chapel (Lyngblomsten Care Center)\, 1415 Almond Avenue\, St. Paul\, MN\, 55108\, United States
CATEGORIES:Como Park,Corporate
ORGANIZER;CN="Rev. Ruth":MAILTO:rsorenson@lyngblomsten.org
END:VEVENT
BEGIN:VEVENT
DTSTART;TZID=America/Chicago:20271104T130000
DTEND;TZID=America/Chicago:20271104T143000
DTSTAMP:20260421T042422
CREATED:20251009T185001Z
LAST-MODIFIED:20251009T185001Z
UID:10000939-1825333200-1825338600@lyngblomsten.org
SUMMARY:Parkinson's Support Group
DESCRIPTION:This Parkinson’s Disease Support Group is an informal\, self-managed organization of persons with Parkinson’s and their caregivers whose purpose is to share information and offer mutual support in a spirit of self-acceptance. It’s a place where other family members and friends can feel welcome and supported. Any stage of Parkinson’s Disease is welcome. \nThis is an open group that meets the first Thursday of the month; come as often as you are able. No RSVP required. The group meets in the second-floor lounge of The Heritage at Lyngblomsten (1440 Midway Parkway\, Saint Paul). \nFor more information\, contact Jay Haukom at 651.632.5391 or jhaukom@lyngblomsten.org.
URL:https://lyngblomsten.org/event/parkinsons-support-group/2027-11-04/
LOCATION:The Heritage at Lyngblomsten\, 1440 Midway Parkway\, Saint Paul\, MN\, 55108\, United States
CATEGORIES:Como Park
END:VEVENT
BEGIN:VEVENT
DTSTART;TZID=America/Chicago:20271107T103000
DTEND;TZID=America/Chicago:20271107T113000
DTSTAMP:20260421T042422
CREATED:20250728T184909Z
LAST-MODIFIED:20250730T211932Z
UID:10000648-1825583400-1825587000@lyngblomsten.org
SUMMARY:Sunday Worship Service
DESCRIPTION:Join us for our weekly ecumenical Sunday worship service in the Newman-Benson Chapel!
URL:https://lyngblomsten.org/event/sunday-worship-service/2027-11-07/
LOCATION:Newman-Benson Chapel (Lyngblomsten Care Center)\, 1415 Almond Avenue\, St. Paul\, MN\, 55108\, United States
CATEGORIES:Como Park,Corporate
ORGANIZER;CN="Rev. Ruth":MAILTO:rsorenson@lyngblomsten.org
END:VEVENT
BEGIN:VEVENT
DTSTART;TZID=America/Chicago:20271114T103000
DTEND;TZID=America/Chicago:20271114T113000
DTSTAMP:20260421T042422
CREATED:20250728T184909Z
LAST-MODIFIED:20250730T211932Z
UID:10000649-1826188200-1826191800@lyngblomsten.org
SUMMARY:Sunday Worship Service
DESCRIPTION:Join us for our weekly ecumenical Sunday worship service in the Newman-Benson Chapel!
URL:https://lyngblomsten.org/event/sunday-worship-service/2027-11-14/
LOCATION:Newman-Benson Chapel (Lyngblomsten Care Center)\, 1415 Almond Avenue\, St. Paul\, MN\, 55108\, United States
CATEGORIES:Como Park,Corporate
ORGANIZER;CN="Rev. Ruth":MAILTO:rsorenson@lyngblomsten.org
END:VEVENT
BEGIN:VEVENT
DTSTART;TZID=America/Chicago:20271121T103000
DTEND;TZID=America/Chicago:20271121T113000
DTSTAMP:20260421T042422
CREATED:20250728T184909Z
LAST-MODIFIED:20250730T211932Z
UID:10000650-1826793000-1826796600@lyngblomsten.org
SUMMARY:Sunday Worship Service
DESCRIPTION:Join us for our weekly ecumenical Sunday worship service in the Newman-Benson Chapel!
URL:https://lyngblomsten.org/event/sunday-worship-service/2027-11-21/
LOCATION:Newman-Benson Chapel (Lyngblomsten Care Center)\, 1415 Almond Avenue\, St. Paul\, MN\, 55108\, United States
CATEGORIES:Como Park,Corporate
ORGANIZER;CN="Rev. Ruth":MAILTO:rsorenson@lyngblomsten.org
END:VEVENT
BEGIN:VEVENT
DTSTART;TZID=America/Chicago:20271128T103000
DTEND;TZID=America/Chicago:20271128T113000
DTSTAMP:20260421T042422
CREATED:20250728T184909Z
LAST-MODIFIED:20250730T211932Z
UID:10000651-1827397800-1827401400@lyngblomsten.org
SUMMARY:Sunday Worship Service
DESCRIPTION:Join us for our weekly ecumenical Sunday worship service in the Newman-Benson Chapel!
URL:https://lyngblomsten.org/event/sunday-worship-service/2027-11-28/
LOCATION:Newman-Benson Chapel (Lyngblomsten Care Center)\, 1415 Almond Avenue\, St. Paul\, MN\, 55108\, United States
CATEGORIES:Como Park,Corporate
ORGANIZER;CN="Rev. Ruth":MAILTO:rsorenson@lyngblomsten.org
END:VEVENT
BEGIN:VEVENT
DTSTART;TZID=America/Chicago:20271202T130000
DTEND;TZID=America/Chicago:20271202T143000
DTSTAMP:20260421T042422
CREATED:20251009T185001Z
LAST-MODIFIED:20251009T185001Z
UID:10000940-1827752400-1827757800@lyngblomsten.org
SUMMARY:Parkinson's Support Group
DESCRIPTION:This Parkinson’s Disease Support Group is an informal\, self-managed organization of persons with Parkinson’s and their caregivers whose purpose is to share information and offer mutual support in a spirit of self-acceptance. It’s a place where other family members and friends can feel welcome and supported. Any stage of Parkinson’s Disease is welcome. \nThis is an open group that meets the first Thursday of the month; come as often as you are able. No RSVP required. The group meets in the second-floor lounge of The Heritage at Lyngblomsten (1440 Midway Parkway\, Saint Paul). \nFor more information\, contact Jay Haukom at 651.632.5391 or jhaukom@lyngblomsten.org.
URL:https://lyngblomsten.org/event/parkinsons-support-group/2027-12-02/
LOCATION:The Heritage at Lyngblomsten\, 1440 Midway Parkway\, Saint Paul\, MN\, 55108\, United States
CATEGORIES:Como Park
END:VEVENT
BEGIN:VEVENT
DTSTART;TZID=America/Chicago:20271205T103000
DTEND;TZID=America/Chicago:20271205T113000
DTSTAMP:20260421T042422
CREATED:20250728T184909Z
LAST-MODIFIED:20250730T211932Z
UID:10000652-1828002600-1828006200@lyngblomsten.org
SUMMARY:Sunday Worship Service
DESCRIPTION:Join us for our weekly ecumenical Sunday worship service in the Newman-Benson Chapel!
URL:https://lyngblomsten.org/event/sunday-worship-service/2027-12-05/
LOCATION:Newman-Benson Chapel (Lyngblomsten Care Center)\, 1415 Almond Avenue\, St. Paul\, MN\, 55108\, United States
CATEGORIES:Como Park,Corporate
ORGANIZER;CN="Rev. Ruth":MAILTO:rsorenson@lyngblomsten.org
END:VEVENT
BEGIN:VEVENT
DTSTART;TZID=America/Chicago:20271212T103000
DTEND;TZID=America/Chicago:20271212T113000
DTSTAMP:20260421T042422
CREATED:20250728T184909Z
LAST-MODIFIED:20250730T211932Z
UID:10000653-1828607400-1828611000@lyngblomsten.org
SUMMARY:Sunday Worship Service
DESCRIPTION:Join us for our weekly ecumenical Sunday worship service in the Newman-Benson Chapel!
URL:https://lyngblomsten.org/event/sunday-worship-service/2027-12-12/
LOCATION:Newman-Benson Chapel (Lyngblomsten Care Center)\, 1415 Almond Avenue\, St. Paul\, MN\, 55108\, United States
CATEGORIES:Como Park,Corporate
ORGANIZER;CN="Rev. Ruth":MAILTO:rsorenson@lyngblomsten.org
END:VEVENT
BEGIN:VEVENT
DTSTART;TZID=America/Chicago:20271219T103000
DTEND;TZID=America/Chicago:20271219T113000
DTSTAMP:20260421T042422
CREATED:20250728T184909Z
LAST-MODIFIED:20250730T211932Z
UID:10000654-1829212200-1829215800@lyngblomsten.org
SUMMARY:Sunday Worship Service
DESCRIPTION:Join us for our weekly ecumenical Sunday worship service in the Newman-Benson Chapel!
URL:https://lyngblomsten.org/event/sunday-worship-service/2027-12-19/
LOCATION:Newman-Benson Chapel (Lyngblomsten Care Center)\, 1415 Almond Avenue\, St. Paul\, MN\, 55108\, United States
CATEGORIES:Como Park,Corporate
ORGANIZER;CN="Rev. Ruth":MAILTO:rsorenson@lyngblomsten.org
END:VEVENT
BEGIN:VEVENT
DTSTART;TZID=America/Chicago:20271226T103000
DTEND;TZID=America/Chicago:20271226T113000
DTSTAMP:20260421T042422
CREATED:20250728T184909Z
LAST-MODIFIED:20250730T211932Z
UID:10000655-1829817000-1829820600@lyngblomsten.org
SUMMARY:Sunday Worship Service
DESCRIPTION:Join us for our weekly ecumenical Sunday worship service in the Newman-Benson Chapel!
URL:https://lyngblomsten.org/event/sunday-worship-service/2027-12-26/
LOCATION:Newman-Benson Chapel (Lyngblomsten Care Center)\, 1415 Almond Avenue\, St. Paul\, MN\, 55108\, United States
CATEGORIES:Como Park,Corporate
ORGANIZER;CN="Rev. Ruth":MAILTO:rsorenson@lyngblomsten.org
END:VEVENT
BEGIN:VEVENT
DTSTART;TZID=America/Chicago:20280102T103000
DTEND;TZID=America/Chicago:20280102T113000
DTSTAMP:20260421T042422
CREATED:20250728T184909Z
LAST-MODIFIED:20250730T211932Z
UID:10000656-1830421800-1830425400@lyngblomsten.org
SUMMARY:Sunday Worship Service
DESCRIPTION:Join us for our weekly ecumenical Sunday worship service in the Newman-Benson Chapel!
URL:https://lyngblomsten.org/event/sunday-worship-service/2028-01-02/
LOCATION:Newman-Benson Chapel (Lyngblomsten Care Center)\, 1415 Almond Avenue\, St. Paul\, MN\, 55108\, United States
CATEGORIES:Como Park,Corporate
ORGANIZER;CN="Rev. Ruth":MAILTO:rsorenson@lyngblomsten.org
END:VEVENT
BEGIN:VEVENT
DTSTART;TZID=America/Chicago:20280106T130000
DTEND;TZID=America/Chicago:20280106T143000
DTSTAMP:20260421T042422
CREATED:20251009T185001Z
LAST-MODIFIED:20251009T185001Z
UID:10000941-1830776400-1830781800@lyngblomsten.org
SUMMARY:Parkinson's Support Group
DESCRIPTION:This Parkinson’s Disease Support Group is an informal\, self-managed organization of persons with Parkinson’s and their caregivers whose purpose is to share information and offer mutual support in a spirit of self-acceptance. It’s a place where other family members and friends can feel welcome and supported. Any stage of Parkinson’s Disease is welcome. \nThis is an open group that meets the first Thursday of the month; come as often as you are able. No RSVP required. The group meets in the second-floor lounge of The Heritage at Lyngblomsten (1440 Midway Parkway\, Saint Paul). \nFor more information\, contact Jay Haukom at 651.632.5391 or jhaukom@lyngblomsten.org.
URL:https://lyngblomsten.org/event/parkinsons-support-group/2028-01-06/
LOCATION:The Heritage at Lyngblomsten\, 1440 Midway Parkway\, Saint Paul\, MN\, 55108\, United States
CATEGORIES:Como Park
END:VEVENT
BEGIN:VEVENT
DTSTART;TZID=America/Chicago:20280109T103000
DTEND;TZID=America/Chicago:20280109T113000
DTSTAMP:20260421T042422
CREATED:20250728T184909Z
LAST-MODIFIED:20250730T211932Z
UID:10000657-1831026600-1831030200@lyngblomsten.org
SUMMARY:Sunday Worship Service
DESCRIPTION:Join us for our weekly ecumenical Sunday worship service in the Newman-Benson Chapel!
URL:https://lyngblomsten.org/event/sunday-worship-service/2028-01-09/
LOCATION:Newman-Benson Chapel (Lyngblomsten Care Center)\, 1415 Almond Avenue\, St. Paul\, MN\, 55108\, United States
CATEGORIES:Como Park,Corporate
ORGANIZER;CN="Rev. Ruth":MAILTO:rsorenson@lyngblomsten.org
END:VEVENT
BEGIN:VEVENT
DTSTART;TZID=America/Chicago:20280116T103000
DTEND;TZID=America/Chicago:20280116T113000
DTSTAMP:20260421T042422
CREATED:20250728T184909Z
LAST-MODIFIED:20250730T211932Z
UID:10000658-1831631400-1831635000@lyngblomsten.org
SUMMARY:Sunday Worship Service
DESCRIPTION:Join us for our weekly ecumenical Sunday worship service in the Newman-Benson Chapel!
URL:https://lyngblomsten.org/event/sunday-worship-service/2028-01-16/
LOCATION:Newman-Benson Chapel (Lyngblomsten Care Center)\, 1415 Almond Avenue\, St. Paul\, MN\, 55108\, United States
CATEGORIES:Como Park,Corporate
ORGANIZER;CN="Rev. Ruth":MAILTO:rsorenson@lyngblomsten.org
END:VEVENT
BEGIN:VEVENT
DTSTART;TZID=America/Chicago:20280123T103000
DTEND;TZID=America/Chicago:20280123T113000
DTSTAMP:20260421T042422
CREATED:20250728T184909Z
LAST-MODIFIED:20250730T211932Z
UID:10000659-1832236200-1832239800@lyngblomsten.org
SUMMARY:Sunday Worship Service
DESCRIPTION:Join us for our weekly ecumenical Sunday worship service in the Newman-Benson Chapel!
URL:https://lyngblomsten.org/event/sunday-worship-service/2028-01-23/
LOCATION:Newman-Benson Chapel (Lyngblomsten Care Center)\, 1415 Almond Avenue\, St. Paul\, MN\, 55108\, United States
CATEGORIES:Como Park,Corporate
ORGANIZER;CN="Rev. Ruth":MAILTO:rsorenson@lyngblomsten.org
END:VEVENT
BEGIN:VEVENT
DTSTART;TZID=America/Chicago:20280130T103000
DTEND;TZID=America/Chicago:20280130T113000
DTSTAMP:20260421T042422
CREATED:20250728T184909Z
LAST-MODIFIED:20250730T211932Z
UID:10000660-1832841000-1832844600@lyngblomsten.org
SUMMARY:Sunday Worship Service
DESCRIPTION:Join us for our weekly ecumenical Sunday worship service in the Newman-Benson Chapel!
URL:https://lyngblomsten.org/event/sunday-worship-service/2028-01-30/
LOCATION:Newman-Benson Chapel (Lyngblomsten Care Center)\, 1415 Almond Avenue\, St. Paul\, MN\, 55108\, United States
CATEGORIES:Como Park,Corporate
ORGANIZER;CN="Rev. Ruth":MAILTO:rsorenson@lyngblomsten.org
END:VEVENT
BEGIN:VEVENT
DTSTART;TZID=America/Chicago:20280203T130000
DTEND;TZID=America/Chicago:20280203T143000
DTSTAMP:20260421T042422
CREATED:20251009T185001Z
LAST-MODIFIED:20251009T185001Z
UID:10000942-1833195600-1833201000@lyngblomsten.org
SUMMARY:Parkinson's Support Group
DESCRIPTION:This Parkinson’s Disease Support Group is an informal\, self-managed organization of persons with Parkinson’s and their caregivers whose purpose is to share information and offer mutual support in a spirit of self-acceptance. It’s a place where other family members and friends can feel welcome and supported. Any stage of Parkinson’s Disease is welcome. \nThis is an open group that meets the first Thursday of the month; come as often as you are able. No RSVP required. The group meets in the second-floor lounge of The Heritage at Lyngblomsten (1440 Midway Parkway\, Saint Paul). \nFor more information\, contact Jay Haukom at 651.632.5391 or jhaukom@lyngblomsten.org.
URL:https://lyngblomsten.org/event/parkinsons-support-group/2028-02-03/
LOCATION:The Heritage at Lyngblomsten\, 1440 Midway Parkway\, Saint Paul\, MN\, 55108\, United States
CATEGORIES:Como Park
END:VEVENT
BEGIN:VEVENT
DTSTART;TZID=America/Chicago:20280206T103000
DTEND;TZID=America/Chicago:20280206T113000
DTSTAMP:20260421T042422
CREATED:20250728T184909Z
LAST-MODIFIED:20250730T211932Z
UID:10000661-1833445800-1833449400@lyngblomsten.org
SUMMARY:Sunday Worship Service
DESCRIPTION:Join us for our weekly ecumenical Sunday worship service in the Newman-Benson Chapel!
URL:https://lyngblomsten.org/event/sunday-worship-service/2028-02-06/
LOCATION:Newman-Benson Chapel (Lyngblomsten Care Center)\, 1415 Almond Avenue\, St. Paul\, MN\, 55108\, United States
CATEGORIES:Como Park,Corporate
ORGANIZER;CN="Rev. Ruth":MAILTO:rsorenson@lyngblomsten.org
END:VEVENT
BEGIN:VEVENT
DTSTART;TZID=America/Chicago:20280213T103000
DTEND;TZID=America/Chicago:20280213T113000
DTSTAMP:20260421T042422
CREATED:20250728T184909Z
LAST-MODIFIED:20250730T211932Z
UID:10000662-1834050600-1834054200@lyngblomsten.org
SUMMARY:Sunday Worship Service
DESCRIPTION:Join us for our weekly ecumenical Sunday worship service in the Newman-Benson Chapel!
URL:https://lyngblomsten.org/event/sunday-worship-service/2028-02-13/
LOCATION:Newman-Benson Chapel (Lyngblomsten Care Center)\, 1415 Almond Avenue\, St. Paul\, MN\, 55108\, United States
CATEGORIES:Como Park,Corporate
ORGANIZER;CN="Rev. Ruth":MAILTO:rsorenson@lyngblomsten.org
END:VEVENT
BEGIN:VEVENT
DTSTART;TZID=America/Chicago:20280220T103000
DTEND;TZID=America/Chicago:20280220T113000
DTSTAMP:20260421T042422
CREATED:20250728T184909Z
LAST-MODIFIED:20250730T211932Z
UID:10000663-1834655400-1834659000@lyngblomsten.org
SUMMARY:Sunday Worship Service
DESCRIPTION:Join us for our weekly ecumenical Sunday worship service in the Newman-Benson Chapel!
URL:https://lyngblomsten.org/event/sunday-worship-service/2028-02-20/
LOCATION:Newman-Benson Chapel (Lyngblomsten Care Center)\, 1415 Almond Avenue\, St. Paul\, MN\, 55108\, United States
CATEGORIES:Como Park,Corporate
ORGANIZER;CN="Rev. Ruth":MAILTO:rsorenson@lyngblomsten.org
END:VEVENT
END:VCALENDAR